{"text_format":"1","workbook":"xlsx","n_sheets":5,"sheets":["application form","Tln Übernahme","Team","KR Übernahme","Btr. Übernahme"],"not_rendered":{"charts":0,"images":2,"macros":1,"external_links":0,"defined_names":0,"comments":0,"pivot_tables":0},"unopened":[],"bounds":{"document_bytes":16777216,"sheet_cells":100000,"rows_first":2000,"rows_last":500,"rows_between":2000,"halvings":0,"cell_chars":16384,"cell_head_chars":4096},"cells_cut":0,"cells_raw":0,"read":"whole","date_system":"1900"}

{"sheet":"application form","index":0,"n_rows":300,"n_cols":49,"rows_kept":300,"cut":false,"hidden":false,"merged":[[65,4,65,7],[2,2,2,3],[20,11,20,15],[21,11,21,15],[22,11,22,15],[30,6,30,7],[9,5,9,9],[20,7,20,10],[21,7,21,10],[22,7,22,10],[30,10,30,11],[30,8,30,9]]}
[null,null,null,"Application Form"]
[null,null,null,"German Open"]
[null,null,{"$f":"A7","v":"2014-09-13"}]
[]
[null,null,"School/Club:"]
[]
["2014-09-13",null,"Address:"]
[null,null,"email + phone:"]
[]
["Application form must be submitted by 5th Sep. 2014 on",null,null,null,null,"meldung@itf-d.de"]
["Emails arriving after this time will not accepted."]
["The competitor fee must have arrived on the ITF Germany Account by 08th Sep. 2014"]
["Account name: ITF-D e.V. , IBAN: DE47 3705 0198 0004 6523 68 ,  BIC: COLSDE33XXX , Sparkasse KölnBonn"]
["No changes will be made at the tournament. Competitors who do not comply with the information in their application "]
["will be disqualified.   No refund of the competitor fee will be given for nonappearance, or disqualification. "]
[]
[]
[]
[null,null,null,null,null,null,null,"Coach:"]
["Referees:","Surname","Forename","Dan","A","B",null,"Surname",null,null,null,"Forename",null,null,null,null,null,null,null,null,null,"Auswahl:","keine Starterlaubnis",null,null,null,null,null,null,null,null,null,null,null,null,null,null,null,null,null,null,null,null,{"$f":"IF(T24=1,AR22,IF(T24=2,AR23,IF(T24=3,AR24,IF(T24=4,AR25,0))))","v":0},null,null,{"$f":"IF(T25=1,AU22,IF(T25=2,AU23,IF(T25=3,AU24,IF(T25=4,AU25,0))))","v":0},null,{"$f":"SUM(AW22:AW25)","v":0}]
[null,null,null,null,null,null,null,null,null,null,null,null,null,null,null,null,null,null,null,null,null,null,"Samstag",null,null,null,null,null,null,null,null,null,null,null,null,null,null,null,null,null,null,"Pre Arranged",null,null,"Team Kampf",null,null,"Team Tul"]
[null,null,null,null,null,null,null,null,null,null,null,null,null,null,null,null,null,null,null,null,null,null,"Sonntag",null,null,null,null,null,null,null,null,null,null,null,null,null,null,null,null,null,null,"1 Team",{"$f":"IF(COUNTIF(N32:N57,1)=2,1,\"\")","v":""},{"$f":"SUM(AQ22)","v":0},"1 Team",{"$f":"IF(OR(COUNTIF(O32:O57,1)=3,COUNTIF(O32:O57,1)=4,COUNTIF(O32:O57,1)=5),1,\"\")","v":""},{"$f":"SUM(AT22)","v":0},"1 Team",{"$f":"IF(OR(COUNTIF(P32:P57,1)=3,COUNTIF(P32:P57,1)=4,COUNTIF(P32:P57,1)=5),1,\"\")","v":""}]
[null,null,null,null,null,null,null,null,null,null,null,null,null,null,null,null,null,null,null,null,null,null,null,null,null,null,null,null,null,null,null,null,null,null,null,null,null,null,null,"Startgebühr",null,"2 Teams",{"$f":"IF(COUNTIF(N32:N57,2)=2,1,\"\")","v":""},{"$f":"SUM(AQ22:AQ23)","v":0},"2 Teams",{"$f":"IF(OR(COUNTIF(O32:O57,2)=3,COUNTIF(O32:O57,2)=4,COUNTIF(O32:O57,2)=5),1,\"\")","v":""},{"$f":"SUM(AT22:AT23)","v":0},"2 Teams",{"$f":"IF(OR(COUNTIF(P32:P57,2)=3,COUNTIF(P32:P57,2)=4,COUNTIF(P32:P57,2)=5),1,\"\")","v":""}]
[null,null,null,null,null,null,null,null,null,null,null,null,null,null,null,null,null,null,"Anzahl Teams Pre",0,null,"D",{"$f":"W21","v":"Samstag"},null,null,null,null,null,null,null,null,null,null,null,null,null,null,null,null,22,"D Einzel","3 Teams",{"$f":"IF(COUNTIF(N32:N57,3)=2,1,\"\")","v":""},{"$f":"SUM(AQ22:AQ24)","v":0},"3 Teams",{"$f":"IF(OR(COUNTIF(O32:O57,3)=3,COUNTIF(O32:O57,3)=4,COUNTIF(O32:O57,3)=5),1,\"\")","v":""},{"$f":"SUM(AT22:AT24)","v":0},"3 Teams",{"$f":"IF(OR(COUNTIF(P32:P57,3)=3,COUNTIF(P32:P57,3)=4,COUNTIF(P32:P57,3)=5),1,\"\")","v":""}]
[null,null,null,null,null,null,null,null,null,null,null,null,null,null,null,null,null,null,"Anzahl Teams Kampf",0,null,"C",{"$f":"W21","v":"Samstag"},null,null,null,null,null,null,null,null,null,null,null,null,null,null,null,null,22,"C, B, A oder S Einzel","4 Teams",{"$f":"IF(COUNTIF(N32:N57,4)=2,1,\"\")","v":""},{"$f":"SUM(AQ22:AQ25)","v":0},"4 Teams",{"$f":"IF(OR(COUNTIF(O32:O57,4)=3,COUNTIF(O32:O57,4)=4,COUNTIF(O32:O57,4)=5),1,\"\")","v":""},{"$f":"SUM(AT22:AT25)","v":0},"4 Teams",{"$f":"IF(OR(COUNTIF(P32:P57,4)=3,COUNTIF(P32:P57,4)=4,COUNTIF(P32:P57,4)=5),1,\"\")","v":""}]
[null,null,null,null,null,null,null,null,null,null,null,null,null,null,null,null,null,null,"Anzahl Teams Tul",2,null,"B",{"$f":"W21","v":"Samstag"},null,null,null,null,null,null,null,null,null,null,null,null,null,null,null,null,30,"Team"]
[null,null,null,null,null,null,null,null,null,null,null,null,null,null,null,null,null,null,null,null,null,"A",{"$f":"W21","v":"Samstag"},null,null,null,null,null,null,null,null,null,null,null,null,null,null,null,null,25,"Erster Start"]
[null,null,null,null,null,null,null,null,null,null,null,null,null,null,null,null,null,null,null,null,null,"S",{"$f":"W21","v":"Samstag"},null,null,null,null,null,null,null,null,null,null,null,null,null,null,null,null,5,"Jeder weitere Start"]
[null,{"$f":"40*COUNTA(B21:B28)","v":0}]
["Competitor:",{"$f":"5*COUNTIF(AP32:AP58,1)","v":0}]
["Surename","Forename","Date of birth MM.DD.YYYY","Age",null,"Gender","-1 = 1.Gup 1 = 1.Dan",null,"Semi Contact",null,"Light Contact",null,"Tul","Power","Spezial","Team","competiojn fee",null,"Team",null,null,null,null,null,"Tul","Kraft",null,null,null,null,null,null,"Kampf"]
[null,null,null,{"$f":"IF(C32=\"\",\"\",DATEDIF(C32,$A$7,\"y\"))","v":""},null,null,null,{"$f":"IF(AND(G32<0,G32>-9),\"Kup\",IF(AND(G32>0,G32<7),\"Dan\",\"\"))","v":""},null,{"$f":"IF(I32=\"\",\"\",IF(D32<12,\"cm\",\"kg\"))","v":""},null,{"$f":"IF(K32=\"\",\"\",IF(D32<12,\"--\",\"kg\"))","v":""},null,null,null,null,{"$f":"AN32","v":0},{"$f":"IF(E32=\"\",\"\",IF(E32=$V$28,$W$28,IF(E32=$V$27,$W$27,IF(E32=$V$26,$W$26,IF(E32=$V$25,$W$25,IF(E32=$V$24,$W$24,\"keine Starterlaubnis\"))))))","v":""},{"$f":"IF(AND($T$26>0,Y32=\"x\"),1,\"\")","v":""},{"$f":"IF(AND($T$26>1,Y32=\"x\"),2,\"\")","v":""},{"$f":"IF(AND($T$26>2,Y32=\"x\"),3,\"\")","v":""},{"$f":"IF(AND($T$26>3,Y32=\"x\"),4,\"\")","v":""},null,{"$f":"IF(R32=\"\",\"\",IF(R32=W20,\"\",\"x\"))","v":""},{"$f":"IF(AND(A32<>\"\",B32<>\"\",C32<>\"\",F32<>\"\",G32<>\"\"),\"x\",\"\")","v":""},{"$f":"IF(AND(Y32=\"x\",G32>0),Y32,\"\")","v":""},{"$f":"IF(AND(A32<>\"\",B32<>\"\",C32<>\"\",F32<>\"\",G32<>\"\",X32=\"x\"),AG32,\"\")","v":""},{"$f":"IF(AND(A32<>\"\",B32<>\"\",C32<>\"\",F32<>\"\",G32<>\"\",X32=\"x\"),AH32,\"\")","v":""},{"$f":"IF(AND(A32<>\"\",B32<>\"\",C32<>\"\",F32<>\"\",G32<>\"\",X32=\"x\"),AI32,\"\")","v":""},{"$f":"IF(AND(A32<>\"\",B32<>\"\",C32<>\"\",F32<>\"\",G32<>\"\",X32=\"x\"),AJ32,\"\")","v":""},{"$f":"IF(AND(A32<>\"\",B32<>\"\",C32<>\"\",F32<>\"\",G32<>\"\",X32=\"x\"),AK32,\"\")","v":""},{"$f":"IF(AND(A32<>\"\",B32<>\"\",C32<>\"\",F32<>\"\",G32<>\"\",X32=\"x\"),AL32,\"\")","v":""},{"$f":"IF(AND(E32=\"B\",F32=\"w\"),40,IF(AND(E32=\"B\",F32=\"m\"),45,IF(AND(E32=\"A\",F32=\"w\"),45,IF(AND(E32=\"A\",F32=\"m\"),50,IF(AND(E32=\"S\",F32=\"w\"),50,IF(AND(E32=\"S\",F32=\"m\"),57,\"\"))))))","v":""},{"$f":"IF(AND(E32=\"B\",F32=\"w\"),45,IF(AND(E32=\"B\",F32=\"m\"),51,IF(AND(E32=\"A\",F32=\"w\"),50,IF(AND(E32=\"A\",F32=\"m\"),56,IF(AND(E32=\"S\",F32=\"w\"),56,IF(AND(E32=\"S\",F32=\"m\"),63,\"\"))))))","v":""},{"$f":"IF(AND(E32=\"B\",F32=\"w\"),50,IF(AND(E32=\"B\",F32=\"m\"),57,IF(AND(E32=\"A\",F32=\"w\"),55,IF(AND(E32=\"A\",F32=\"m\"),62,IF(AND(E32=\"S\",F32=\"w\"),62,IF(AND(E32=\"S\",F32=\"m\"),70,\"\"))))))","v":""},{"$f":"IF(AND(E32=\"B\",F32=\"w\"),55,IF(AND(E32=\"B\",F32=\"m\"),63,IF(AND(E32=\"A\",F32=\"w\"),60,IF(AND(E32=\"A\",F32=\"m\"),68,IF(AND(E32=\"S\",F32=\"w\"),68,IF(AND(E32=\"S\",F32=\"m\"),78,\"\"))))))","v":""},{"$f":"IF(AND(E32=\"B\",F32=\"w\"),60,IF(AND(E32=\"B\",F32=\"m\"),70,IF(AND(E32=\"A\",F32=\"w\"),65,IF(AND(E32=\"A\",F32=\"m\"),75,IF(AND(E32=\"S\",F32=\"w\"),75,IF(AND(E32=\"S\",F32=\"m\"),85,\"\"))))))","v":""},{"$f":"IF(AND(E32=\"B\",F32=\"w\"),200,IF(AND(E32=\"B\",F32=\"m\"),200,IF(AND(E32=\"A\",F32=\"w\"),200,IF(AND(E32=\"A\",F32=\"m\"),200,IF(AND(E32=\"S\",F32=\"w\"),200,IF(AND(E32=\"S\",F32=\"m\"),200,\"\"))))))","v":""},{"$f":"COUNTIF(I32,\"<>\")+COUNTIF(K32,\"<>\")+COUNTIF(M32,\"<>\")+COUNTIF(N32,\"<>\")+COUNTIF(O32,\"<>\")+COUNTIF(P32,\"<>\")","v":0},{"$f":"IF(AM32>0,AN$27+(AM32-1)*AN$28,0)","v":0},null,{"$f":"IF(Q32:Q57>10,1,0)","v":0}]
[null,null,null,{"$f":"IF(C33=\"\",\"\",DATEDIF(C33,$A$7,\"y\"))","v":""},null,null,null,{"$f":"IF(AND(G33<0,G33>-9),\"Kup\",IF(AND(G33>0,G33<7),\"Dan\",\"\"))","v":""},null,{"$f":"IF(I33=\"\",\"\",IF(D33<12,\"cm\",\"kg\"))","v":""},null,{"$f":"IF(K33=\"\",\"\",IF(D33<12,\"--\",\"kg\"))","v":""},null,null,null,null,{"$f":"AN33","v":0},{"$f":"IF(E33=\"\",\"\",IF(E33=$V$28,$W$28,IF(E33=$V$27,$W$27,IF(E33=$V$26,$W$26,IF(E33=$V$25,$W$25,IF(E33=$V$24,$W$24,\"keine Starterlaubnis\"))))))","v":""},{"$f":"IF(AND($T$26>0,Y33=\"x\"),1,\"\")","v":""},{"$f":"IF(AND($T$26>1,Y33=\"x\"),2,\"\")","v":""},{"$f":"IF(AND($T$26>2,Y33=\"x\"),3,\"\")","v":""},{"$f":"IF(AND($T$26>3,Y33=\"x\"),4,\"\")","v":""},null,{"$f":"IF(R33=\"\",\"\",IF(R33=\"keine Starterlaubnis\",\"\",\"x\"))","v":""},{"$f":"IF(AND(A33<>\"\",B33<>\"\",C33<>\"\",F33<>\"\",G33<>\"\"),\"x\",\"\")","v":""},{"$f":"IF(AND(Y33=\"x\",G33>0),Y33,\"\")","v":""},{"$f":"IF(AND(A33<>\"\",B33<>\"\",C33<>\"\",F33<>\"\",G33<>\"\",X33=\"x\"),AG33,\"\")","v":""},{"$f":"IF(AND(A33<>\"\",B33<>\"\",C33<>\"\",F33<>\"\",G33<>\"\",X33=\"x\"),AH33,\"\")","v":""},{"$f":"IF(AND(A33<>\"\",B33<>\"\",C33<>\"\",F33<>\"\",G33<>\"\",X33=\"x\"),AI33,\"\")","v":""},{"$f":"IF(AND(A33<>\"\",B33<>\"\",C33<>\"\",F33<>\"\",G33<>\"\",X33=\"x\"),AJ33,\"\")","v":""},{"$f":"IF(AND(A33<>\"\",B33<>\"\",C33<>\"\",F33<>\"\",G33<>\"\",X33=\"x\"),AK33,\"\")","v":""},{"$f":"IF(AND(A33<>\"\",B33<>\"\",C33<>\"\",F33<>\"\",G33<>\"\",X33=\"x\"),AL33,\"\")","v":""},{"$f":"IF(E33=\"C\",130,IF(AND(E33=\"B\",F33=\"w\"),40,IF(AND(E33=\"B\",F33=\"m\"),45,IF(AND(E33=\"A\",F33=\"w\"),45,IF(AND(E33=\"A\",F33=\"m\"),50,IF(AND(E33=\"S\",F33=\"w\"),50,IF(AND(E33=\"S\",F33=\"m\"),57,\"\")))))))","v":""},{"$f":"IF(E33=\"C\",140,IF(AND(E33=\"B\",F33=\"w\"),45,IF(AND(E33=\"B\",F33=\"m\"),51,IF(AND(E33=\"A\",F33=\"w\"),50,IF(AND(E33=\"A\",F33=\"m\"),56,IF(AND(E33=\"S\",F33=\"w\"),56,IF(AND(E33=\"S\",F33=\"m\"),63,\"\")))))))","v":""},{"$f":"IF(E33=\"C\",150,IF(AND(E33=\"B\",F33=\"w\"),50,IF(AND(E33=\"B\",F33=\"m\"),57,IF(AND(E33=\"A\",F33=\"w\"),55,IF(AND(E33=\"A\",F33=\"m\"),62,IF(AND(E33=\"S\",F33=\"w\"),62,IF(AND(E33=\"S\",F33=\"m\"),70,\"\")))))))","v":""},{"$f":"IF(E33=\"C\",200,IF(AND(E33=\"B\",F33=\"w\"),55,IF(AND(E33=\"B\",F33=\"m\"),63,IF(AND(E33=\"A\",F33=\"w\"),60,IF(AND(E33=\"A\",F33=\"m\"),68,IF(AND(E33=\"S\",F33=\"w\"),68,IF(AND(E33=\"S\",F33=\"m\"),78,\"\")))))))","v":""},{"$f":"IF(E33=\"D\",200,IF(AND(E33=\"B\",F33=\"w\"),60,IF(AND(E33=\"B\",F33=\"m\"),70,IF(AND(E33=\"A\",F33=\"w\"),65,IF(AND(E33=\"A\",F33=\"m\"),75,IF(AND(E33=\"S\",F33=\"w\"),75,IF(AND(E33=\"S\",F33=\"m\"),85,\"\")))))))","v":""},{"$f":"IF(AND(E33=\"B\",F33=\"w\"),200,IF(AND(E33=\"B\",F33=\"m\"),200,IF(AND(E33=\"A\",F33=\"w\"),200,IF(AND(E33=\"A\",F33=\"m\"),200,IF(AND(E33=\"S\",F33=\"w\"),200,IF(AND(E33=\"S\",F33=\"m\"),200,\"\"))))))","v":""},{"$f":"COUNTIF(I33,\"<>\")+COUNTIF(K33,\"<>\")+COUNTIF(M33,\"<>\")+COUNTIF(N33,\"<>\")+COUNTIF(O33,\"<>\")+COUNTIF(P33,\"<>\")","v":0},{"$f":"IF(AM33>0,AN$27+(AM33-1)*AN$28,0)","v":0},null,{"$f":"IF(Q33:Q58>10,1,0)","v":0}]
[null,null,null,"",null,null,null,"",null,"",null,"",null,null,null,null,0,"","","","","",null,"","","","","","","","","","","","","","","",0,0,null,0]
[null,null,null,"",null,null,null,"",null,"",null,"",null,null,null,null,0,"","","","","",null,"","","","","","","","","","","","","","","",0,0,null,0]
[null,null,null,"",null,null,null,"",null,"",null,"",null,null,null,null,0,"","","","","",null,"","","","","","","","","","","","","","","",0,0,null,0]
[null,null,null,"",null,null,null,"",null,"",null,"",null,null,null,null,0,"","","","","",null,"","","","","","","","","","","","","","","",0,0,null,0]
[null,null,null,"",null,null,null,"",null,"",null,"",null,null,null,null,0,"","","","","",null,"","","","","","","","","","","","","","","",0,0,null,0]
[null,null,null,"",null,null,null,"",null,"",null,"",null,null,null,null,0,"","","","","",null,"","","","","","","","","","","","","","","",0,0,null,0]
[null,null,null,"",null,null,null,"",null,"",null,"",null,null,null,null,0,"","","","","",null,"","","","","","","","","","","","","","","",0,0,null,0]
[null,null,null,"",null,null,null,"",null,"",null,"",null,null,null,null,0,"","","","","",null,"","","","","","","","","","","","","","","",0,0,null,0]
[null,null,null,"",null,null,null,"",null,"",null,"",null,null,null,null,0,"","","","","",null,"","","","","","","","","","","","","","","",0,0,null,0]
[null,null,null,"",null,null,null,"",null,"",null,"",null,null,null,null,0,"","","","","",null,"","","","","","","","","","","","","","","",0,0,null,0]
[null,null,null,"",null,null,null,"",null,"",null,"",null,null,null,null,0,"","","","","",null,"","","","","","","","","","","","","","","",0,0,null,0]
[null,null,null,"",null,null,null,"",null,"",null,"",null,null,null,null,0,"","","","","",null,"","","","","","","","","","","","","","","",0,0,null,0]
[null,null,null,"",null,null,null,"",null,"",null,"",null,null,null,null,0,"","","","","",null,"","","","","","","","","","","","","","","",0,0,null,0]
[null,null,null,"",null,null,null,"",null,"",null,"",null,null,null,null,0,"","","","","",null,"","","","","","","","","","","","","","","",0,0,null,0]
[null,null,null,"",null,null,null,"",null,"",null,"",null,null,null,null,0,"","","","","",null,"","","","","","","","","","","","","","","",0,0,null,0]
[null,null,null,"",null,null,null,"",null,"",null,"",null,null,null,null,0,"","","","","",null,"","","","","","","","","","","","","","","",0,0,null,0]
[null,null,null,"",null,null,null,"",null,"",null,"",null,null,null,null,0,"","","","","",null,"","","","","","","","","","","","","","","",0,0,null,0]
[null,null,null,"",null,null,null,"",null,"",null,"",null,null,null,null,0,"","","","","",null,"","","","","","","","","","","","","","","",0,0,null,0]
[null,null,null,"",null,null,null,"",null,"",null,"",null,null,null,null,0,"","","","","",null,"","","","","","","","","","","","","","","",0,0,null,0]
[null,null,null,"",null,null,null,"",null,"",null,"",null,null,null,null,0,"","","","","",null,"","","","","","","","","","","","","","","",0,0,null,0]
[null,null,null,"",null,null,null,"",null,"",null,"",null,null,null,null,0,"","","","","",null,"","","","","","","","","","","","","","","",0,0,null,0]
[null,null,null,"",null,null,null,"",null,"",null,"",null,null,null,null,0,"","","","","",null,"","","","","","","","","","","","","","","",0,0,null,0]
[null,null,null,"",null,null,null,"",null,"",null,"",null,null,null,null,0,"","","","","",null,"","","","","","","","","","","","","","","",0,0,null,0]
[null,null,null,"",null,null,null,"",null,"",null,"",null,null,null,null,0,"","","","","",null,"","","","","","","","","","","","","","","",0,0,null,0]
[null,null,null,null,null,null,null,null,null,null,null,null,null,{"$f":"IF(AR20=0,\"\",AR20)","v":""},{"$f":"IF(AU20=0,\"\",AU20)","v":""},null,{"$f":"SUM(Q32:Q57)","v":0},"","","","","",null,"","","","","","","","","","","","","","",""]
[]
[null,null,null,null,null,null,null,null,null,null,null,null,null,null,"Crediting for Referees:",null,{"$f":"IF(B29=B30,B30,IF(B29>B30,B30,IF(B30>B29,B29)))*-1","v":0}]
[]
[null,null,null,null,null,null,null,null,null,null,null,null,null,null,"Competition fee to pay:",null,{"$f":"SUM(Q58:Q60)","v":0}]
[]
[]
[null,"Booking note of ITF-D e.V."]
["The amount was credited on the bank account of the ITF-D on"]
[]
[]
[]
[]
[]
[]
[]
[]
[]
[]
[]
[]
[]
[]
[]
[]
[]
[]
[]
[]
[]
[]
[]
[]
[]
[]
[]
[]
[]
[]
[]
[]
[]
[]
[1]
[2]
[3]
[4]
[5]
[6]
[7]
[8]
[9]
[10]
[11]
[12]
[13]
[14]
[15]
[16]
[17]
[18]
[19]
[20]
[21]
[22]
[23]
[24]
[25]
[26]
[27]
[28]
[29]
[30]
[31]
[32]
[33]
[34]
[35]
[36]
[37]
[38]
[39]
[40]
[41]
[42]
[43]
[44]
[45]
[46]
[47]
[48]
[49]
[50]
[51]
[52]
[53]
[54]
[55]
[56]
[57]
[58]
[59]
[60]
[61]
[62]
[63]
[64]
[65]
[66]
[67]
[68]
[69]
[70]
[71]
[72]
[73]
[74]
[75]
[76]
[77]
[78]
[79]
[80]
[81]
[82]
[83]
[84]
[85]
[86]
[87]
[88]
[89]
[90]
[91]
[92]
[93]
[94]
[95]
[96]
[97]
[98]
[99]
[100]
[101]
[102]
[103]
[104]
[105]
[106]
[107]
[108]
[109]
[110]
[111]
[112]
[113]
[114]
[115]
[116]
[117]
[118]
[119]
[120]
[121]
[122]
[123]
[124]
[125]
[126]
[127]
[128]
[129]
[130]
[131]
[132]
[133]
[134]
[135]
[136]
[137]
[138]
[139]
[140]
[141]
[142]
[143]
[144]
[145]
[146]
[147]
[148]
[149]
[150]
[151]
[152]
[153]
[154]
[155]
[156]
[157]
[158]
[159]
[160]
[161]
[162]
[163]
[164]
[165]
[166]
[167]
[168]
[169]
[170]
[171]
[172]
[173]
[174]
[175]
[176]
[177]
[178]
[179]
[180]
[181]
[182]
[183]
[184]
[185]
[186]
[187]
[188]
[189]
[190]
[191]
[192]
[193]
[194]
[195]
[196]
[197]
[198]
[199]
[200]

{"sheet":"Tln Übernahme","index":1,"n_rows":27,"n_cols":14,"rows_kept":27,"cut":false,"hidden":false,"merged":[]}
["Familienname","Vorname","Schule/Verein","Geb. Datum","m / w","Grad.","LK","x","SK","x","Tul","Kraft","Spezial","Team"]
[{"$f":"IF('application form'!A32=\"\",\"\",'application form'!A32)","v":""},{"$f":"IF('application form'!B32=\"\",\"\",'application form'!B32)","v":""},{"$f":"IF('application form'!$D$6=\"\",\"\",'application form'!$D$6)","v":""},{"$f":"IF('application form'!C32=\"\",\"\",'application form'!C32)","v":""},{"$f":"IF('application form'!F32=\"m\",\"m\",IF('application form'!F32=\"f\",\"w\",\"\"))","v":""},{"$f":"IF('application form'!G32=\"\",\"\",'application form'!G32)","v":""},{"$f":"IF('application form'!K32=\"\",\"\",'application form'!K32)","v":""},{"$f":"IF(G2=\"\",\"\",\"x\")","v":""},{"$f":"IF('application form'!I32=\"\",\"\",'application form'!I32)","v":""},{"$f":"IF(I2=\"\",\"\",\"x\")","v":""},{"$f":"IF('application form'!M32=\"\",\"\",'application form'!M32)","v":""},{"$f":"IF('application form'!N32=\"\",\"\",'application form'!N32)","v":""},{"$f":"IF('application form'!O32=\"\",\"\",'application form'!O32)","v":""},{"$f":"IF('application form'!P32=\"\",\"\",'application form'!P32)","v":""}]
[{"$f":"IF('application form'!A33=\"\",\"\",'application form'!A33)","v":""},{"$f":"IF('application form'!B33=\"\",\"\",'application form'!B33)","v":""},{"$f":"IF('application form'!$D$6=\"\",\"\",'application form'!$D$6)","v":""},{"$f":"IF('application form'!C33=\"\",\"\",'application form'!C33)","v":""},{"$f":"IF('application form'!F33=\"m\",\"m\",IF('application form'!F33=\"f\",\"w\",\"\"))","v":""},{"$f":"IF('application form'!G33=\"\",\"\",'application form'!G33)","v":""},{"$f":"IF('application form'!K33=\"\",\"\",'application form'!K33)","v":""},{"$f":"IF(G3=\"\",\"\",\"x\")","v":""},{"$f":"IF('application form'!I33=\"\",\"\",'application form'!I33)","v":""},{"$f":"IF(I3=\"\",\"\",\"x\")","v":""},{"$f":"IF('application form'!M33=\"\",\"\",'application form'!M33)","v":""},{"$f":"IF('application form'!N33=\"\",\"\",'application form'!N33)","v":""},{"$f":"IF('application form'!O33=\"\",\"\",'application form'!O33)","v":""},{"$f":"IF('application form'!P33=\"\",\"\",'application form'!P33)","v":""}]
[{"$f":"IF('application form'!A34=\"\",\"\",'application form'!A34)","v":""},{"$f":"IF('application form'!B34=\"\",\"\",'application form'!B34)","v":""},{"$f":"IF('application form'!$D$6=\"\",\"\",'application form'!$D$6)","v":""},{"$f":"IF('application form'!C34=\"\",\"\",'application form'!C34)","v":""},{"$f":"IF('application form'!F34=\"m\",\"m\",IF('application form'!F34=\"f\",\"w\",\"\"))","v":""},{"$f":"IF('application form'!G34=\"\",\"\",'application form'!G34)","v":""},{"$f":"IF('application form'!K34=\"\",\"\",'application form'!K34)","v":""},"",{"$f":"IF('application form'!I34=\"\",\"\",'application form'!I34)","v":""},"",{"$f":"IF('application form'!M34=\"\",\"\",'application form'!M34)","v":""},{"$f":"IF('application form'!N34=\"\",\"\",'application form'!N34)","v":""},{"$f":"IF('application form'!O34=\"\",\"\",'application form'!O34)","v":""},{"$f":"IF('application form'!P34=\"\",\"\",'application form'!P34)","v":""}]
[{"$f":"IF('application form'!A35=\"\",\"\",'application form'!A35)","v":""},{"$f":"IF('application form'!B35=\"\",\"\",'application form'!B35)","v":""},{"$f":"IF('application form'!$D$6=\"\",\"\",'application form'!$D$6)","v":""},{"$f":"IF('application form'!C35=\"\",\"\",'application form'!C35)","v":""},{"$f":"IF('application form'!F35=\"m\",\"m\",IF('application form'!F35=\"f\",\"w\",\"\"))","v":""},{"$f":"IF('application form'!G35=\"\",\"\",'application form'!G35)","v":""},{"$f":"IF('application form'!K35=\"\",\"\",'application form'!K35)","v":""},"",{"$f":"IF('application form'!I35=\"\",\"\",'application form'!I35)","v":""},"",{"$f":"IF('application form'!M35=\"\",\"\",'application form'!M35)","v":""},{"$f":"IF('application form'!N35=\"\",\"\",'application form'!N35)","v":""},{"$f":"IF('application form'!O35=\"\",\"\",'application form'!O35)","v":""},{"$f":"IF('application form'!P35=\"\",\"\",'application form'!P35)","v":""}]
[{"$f":"IF('application form'!A36=\"\",\"\",'application form'!A36)","v":""},{"$f":"IF('application form'!B36=\"\",\"\",'application form'!B36)","v":""},{"$f":"IF('application form'!$D$6=\"\",\"\",'application form'!$D$6)","v":""},{"$f":"IF('application form'!C36=\"\",\"\",'application form'!C36)","v":""},{"$f":"IF('application form'!F36=\"m\",\"m\",IF('application form'!F36=\"f\",\"w\",\"\"))","v":""},{"$f":"IF('application form'!G36=\"\",\"\",'application form'!G36)","v":""},{"$f":"IF('application form'!K36=\"\",\"\",'application form'!K36)","v":""},"",{"$f":"IF('application form'!I36=\"\",\"\",'application form'!I36)","v":""},"",{"$f":"IF('application form'!M36=\"\",\"\",'application form'!M36)","v":""},{"$f":"IF('application form'!N36=\"\",\"\",'application form'!N36)","v":""},{"$f":"IF('application form'!O36=\"\",\"\",'application form'!O36)","v":""},{"$f":"IF('application form'!P36=\"\",\"\",'application form'!P36)","v":""}]
[{"$f":"IF('application form'!A37=\"\",\"\",'application form'!A37)","v":""},{"$f":"IF('application form'!B37=\"\",\"\",'application form'!B37)","v":""},{"$f":"IF('application form'!$D$6=\"\",\"\",'application form'!$D$6)","v":""},{"$f":"IF('application form'!C37=\"\",\"\",'application form'!C37)","v":""},{"$f":"IF('application form'!F37=\"m\",\"m\",IF('application form'!F37=\"f\",\"w\",\"\"))","v":""},{"$f":"IF('application form'!G37=\"\",\"\",'application form'!G37)","v":""},{"$f":"IF('application form'!K37=\"\",\"\",'application form'!K37)","v":""},"",{"$f":"IF('application form'!I37=\"\",\"\",'application form'!I37)","v":""},"",{"$f":"IF('application form'!M37=\"\",\"\",'application form'!M37)","v":""},{"$f":"IF('application form'!N37=\"\",\"\",'application form'!N37)","v":""},{"$f":"IF('application form'!O37=\"\",\"\",'application form'!O37)","v":""},{"$f":"IF('application form'!P37=\"\",\"\",'application form'!P37)","v":""}]
[{"$f":"IF('application form'!A38=\"\",\"\",'application form'!A38)","v":""},{"$f":"IF('application form'!B38=\"\",\"\",'application form'!B38)","v":""},{"$f":"IF('application form'!$D$6=\"\",\"\",'application form'!$D$6)","v":""},{"$f":"IF('application form'!C38=\"\",\"\",'application form'!C38)","v":""},{"$f":"IF('application form'!F38=\"m\",\"m\",IF('application form'!F38=\"f\",\"w\",\"\"))","v":""},{"$f":"IF('application form'!G38=\"\",\"\",'application form'!G38)","v":""},{"$f":"IF('application form'!K38=\"\",\"\",'application form'!K38)","v":""},"",{"$f":"IF('application form'!I38=\"\",\"\",'application form'!I38)","v":""},"",{"$f":"IF('application form'!M38=\"\",\"\",'application form'!M38)","v":""},{"$f":"IF('application form'!N38=\"\",\"\",'application form'!N38)","v":""},{"$f":"IF('application form'!O38=\"\",\"\",'application form'!O38)","v":""},{"$f":"IF('application form'!P38=\"\",\"\",'application form'!P38)","v":""}]
[{"$f":"IF('application form'!A39=\"\",\"\",'application form'!A39)","v":""},{"$f":"IF('application form'!B39=\"\",\"\",'application form'!B39)","v":""},{"$f":"IF('application form'!$D$6=\"\",\"\",'application form'!$D$6)","v":""},{"$f":"IF('application form'!C39=\"\",\"\",'application form'!C39)","v":""},{"$f":"IF('application form'!F39=\"m\",\"m\",IF('application form'!F39=\"f\",\"w\",\"\"))","v":""},{"$f":"IF('application form'!G39=\"\",\"\",'application form'!G39)","v":""},{"$f":"IF('application form'!K39=\"\",\"\",'application form'!K39)","v":""},"",{"$f":"IF('application form'!I39=\"\",\"\",'application form'!I39)","v":""},"",{"$f":"IF('application form'!M39=\"\",\"\",'application form'!M39)","v":""},{"$f":"IF('application form'!N39=\"\",\"\",'application form'!N39)","v":""},{"$f":"IF('application form'!O39=\"\",\"\",'application form'!O39)","v":""},{"$f":"IF('application form'!P39=\"\",\"\",'application form'!P39)","v":""}]
[{"$f":"IF('application form'!A40=\"\",\"\",'application form'!A40)","v":""},{"$f":"IF('application form'!B40=\"\",\"\",'application form'!B40)","v":""},{"$f":"IF('application form'!$D$6=\"\",\"\",'application form'!$D$6)","v":""},{"$f":"IF('application form'!C40=\"\",\"\",'application form'!C40)","v":""},{"$f":"IF('application form'!F40=\"m\",\"m\",IF('application form'!F40=\"f\",\"w\",\"\"))","v":""},{"$f":"IF('application form'!G40=\"\",\"\",'application form'!G40)","v":""},{"$f":"IF('application form'!K40=\"\",\"\",'application form'!K40)","v":""},"",{"$f":"IF('application form'!I40=\"\",\"\",'application form'!I40)","v":""},"",{"$f":"IF('application form'!M40=\"\",\"\",'application form'!M40)","v":""},{"$f":"IF('application form'!N40=\"\",\"\",'application form'!N40)","v":""},{"$f":"IF('application form'!O40=\"\",\"\",'application form'!O40)","v":""},{"$f":"IF('application form'!P40=\"\",\"\",'application form'!P40)","v":""}]
[{"$f":"IF('application form'!A41=\"\",\"\",'application form'!A41)","v":""},{"$f":"IF('application form'!B41=\"\",\"\",'application form'!B41)","v":""},{"$f":"IF('application form'!$D$6=\"\",\"\",'application form'!$D$6)","v":""},{"$f":"IF('application form'!C41=\"\",\"\",'application form'!C41)","v":""},{"$f":"IF('application form'!F41=\"m\",\"m\",IF('application form'!F41=\"f\",\"w\",\"\"))","v":""},{"$f":"IF('application form'!G41=\"\",\"\",'application form'!G41)","v":""},{"$f":"IF('application form'!K41=\"\",\"\",'application form'!K41)","v":""},"",{"$f":"IF('application form'!I41=\"\",\"\",'application form'!I41)","v":""},"",{"$f":"IF('application form'!M41=\"\",\"\",'application form'!M41)","v":""},{"$f":"IF('application form'!N41=\"\",\"\",'application form'!N41)","v":""},{"$f":"IF('application form'!O41=\"\",\"\",'application form'!O41)","v":""},{"$f":"IF('application form'!P41=\"\",\"\",'application form'!P41)","v":""}]
[{"$f":"IF('application form'!A42=\"\",\"\",'application form'!A42)","v":""},{"$f":"IF('application form'!B42=\"\",\"\",'application form'!B42)","v":""},{"$f":"IF('application form'!$D$6=\"\",\"\",'application form'!$D$6)","v":""},{"$f":"IF('application form'!C42=\"\",\"\",'application form'!C42)","v":""},{"$f":"IF('application form'!F42=\"m\",\"m\",IF('application form'!F42=\"f\",\"w\",\"\"))","v":""},{"$f":"IF('application form'!G42=\"\",\"\",'application form'!G42)","v":""},{"$f":"IF('application form'!K42=\"\",\"\",'application form'!K42)","v":""},"",{"$f":"IF('application form'!I42=\"\",\"\",'application form'!I42)","v":""},"",{"$f":"IF('application form'!M42=\"\",\"\",'application form'!M42)","v":""},{"$f":"IF('application form'!N42=\"\",\"\",'application form'!N42)","v":""},{"$f":"IF('application form'!O42=\"\",\"\",'application form'!O42)","v":""},{"$f":"IF('application form'!P42=\"\",\"\",'application form'!P42)","v":""}]
[{"$f":"IF('application form'!A43=\"\",\"\",'application form'!A43)","v":""},{"$f":"IF('application form'!B43=\"\",\"\",'application form'!B43)","v":""},{"$f":"IF('application form'!$D$6=\"\",\"\",'application form'!$D$6)","v":""},{"$f":"IF('application form'!C43=\"\",\"\",'application form'!C43)","v":""},{"$f":"IF('application form'!F43=\"m\",\"m\",IF('application form'!F43=\"f\",\"w\",\"\"))","v":""},{"$f":"IF('application form'!G43=\"\",\"\",'application form'!G43)","v":""},{"$f":"IF('application form'!K43=\"\",\"\",'application form'!K43)","v":""},"",{"$f":"IF('application form'!I43=\"\",\"\",'application form'!I43)","v":""},"",{"$f":"IF('application form'!M43=\"\",\"\",'application form'!M43)","v":""},{"$f":"IF('application form'!N43=\"\",\"\",'application form'!N43)","v":""},{"$f":"IF('application form'!O43=\"\",\"\",'application form'!O43)","v":""},{"$f":"IF('application form'!P43=\"\",\"\",'application form'!P43)","v":""}]
[{"$f":"IF('application form'!A44=\"\",\"\",'application form'!A44)","v":""},{"$f":"IF('application form'!B44=\"\",\"\",'application form'!B44)","v":""},{"$f":"IF('application form'!$D$6=\"\",\"\",'application form'!$D$6)","v":""},{"$f":"IF('application form'!C44=\"\",\"\",'application form'!C44)","v":""},{"$f":"IF('application form'!F44=\"m\",\"m\",IF('application form'!F44=\"f\",\"w\",\"\"))","v":""},{"$f":"IF('application form'!G44=\"\",\"\",'application form'!G44)","v":""},{"$f":"IF('application form'!K44=\"\",\"\",'application form'!K44)","v":""},"",{"$f":"IF('application form'!I44=\"\",\"\",'application form'!I44)","v":""},"",{"$f":"IF('application form'!M44=\"\",\"\",'application form'!M44)","v":""},{"$f":"IF('application form'!N44=\"\",\"\",'application form'!N44)","v":""},{"$f":"IF('application form'!O44=\"\",\"\",'application form'!O44)","v":""},{"$f":"IF('application form'!P44=\"\",\"\",'application form'!P44)","v":""}]
[{"$f":"IF('application form'!A45=\"\",\"\",'application form'!A45)","v":""},{"$f":"IF('application form'!B45=\"\",\"\",'application form'!B45)","v":""},{"$f":"IF('application form'!$D$6=\"\",\"\",'application form'!$D$6)","v":""},{"$f":"IF('application form'!C45=\"\",\"\",'application form'!C45)","v":""},{"$f":"IF('application form'!F45=\"m\",\"m\",IF('application form'!F45=\"f\",\"w\",\"\"))","v":""},{"$f":"IF('application form'!G45=\"\",\"\",'application form'!G45)","v":""},{"$f":"IF('application form'!K45=\"\",\"\",'application form'!K45)","v":""},"",{"$f":"IF('application form'!I45=\"\",\"\",'application form'!I45)","v":""},"",{"$f":"IF('application form'!M45=\"\",\"\",'application form'!M45)","v":""},{"$f":"IF('application form'!N45=\"\",\"\",'application form'!N45)","v":""},{"$f":"IF('application form'!O45=\"\",\"\",'application form'!O45)","v":""},{"$f":"IF('application form'!P45=\"\",\"\",'application form'!P45)","v":""}]
[{"$f":"IF('application form'!A46=\"\",\"\",'application form'!A46)","v":""},{"$f":"IF('application form'!B46=\"\",\"\",'application form'!B46)","v":""},{"$f":"IF('application form'!$D$6=\"\",\"\",'application form'!$D$6)","v":""},{"$f":"IF('application form'!C46=\"\",\"\",'application form'!C46)","v":""},{"$f":"IF('application form'!F46=\"m\",\"m\",IF('application form'!F46=\"f\",\"w\",\"\"))","v":""},{"$f":"IF('application form'!G46=\"\",\"\",'application form'!G46)","v":""},{"$f":"IF('application form'!K46=\"\",\"\",'application form'!K46)","v":""},"",{"$f":"IF('application form'!I46=\"\",\"\",'application form'!I46)","v":""},"",{"$f":"IF('application form'!M46=\"\",\"\",'application form'!M46)","v":""},{"$f":"IF('application form'!N46=\"\",\"\",'application form'!N46)","v":""},{"$f":"IF('application form'!O46=\"\",\"\",'application form'!O46)","v":""},{"$f":"IF('application form'!P46=\"\",\"\",'application form'!P46)","v":""}]
[{"$f":"IF('application form'!A47=\"\",\"\",'application form'!A47)","v":""},{"$f":"IF('application form'!B47=\"\",\"\",'application form'!B47)","v":""},{"$f":"IF('application form'!$D$6=\"\",\"\",'application form'!$D$6)","v":""},{"$f":"IF('application form'!C47=\"\",\"\",'application form'!C47)","v":""},{"$f":"IF('application form'!F47=\"m\",\"m\",IF('application form'!F47=\"f\",\"w\",\"\"))","v":""},{"$f":"IF('application form'!G47=\"\",\"\",'application form'!G47)","v":""},{"$f":"IF('application form'!K47=\"\",\"\",'application form'!K47)","v":""},"",{"$f":"IF('application form'!I47=\"\",\"\",'application form'!I47)","v":""},"",{"$f":"IF('application form'!M47=\"\",\"\",'application form'!M47)","v":""},{"$f":"IF('application form'!N47=\"\",\"\",'application form'!N47)","v":""},{"$f":"IF('application form'!O47=\"\",\"\",'application form'!O47)","v":""},{"$f":"IF('application form'!P47=\"\",\"\",'application form'!P47)","v":""}]
[{"$f":"IF('application form'!A48=\"\",\"\",'application form'!A48)","v":""},{"$f":"IF('application form'!B48=\"\",\"\",'application form'!B48)","v":""},{"$f":"IF('application form'!$D$6=\"\",\"\",'application form'!$D$6)","v":""},{"$f":"IF('application form'!C48=\"\",\"\",'application form'!C48)","v":""},{"$f":"IF('application form'!F48=\"m\",\"m\",IF('application form'!F48=\"f\",\"w\",\"\"))","v":""},{"$f":"IF('application form'!G48=\"\",\"\",'application form'!G48)","v":""},{"$f":"IF('application form'!K48=\"\",\"\",'application form'!K48)","v":""},"",{"$f":"IF('application form'!I48=\"\",\"\",'application form'!I48)","v":""},"",{"$f":"IF('application form'!M48=\"\",\"\",'application form'!M48)","v":""},{"$f":"IF('application form'!N48=\"\",\"\",'application form'!N48)","v":""},{"$f":"IF('application form'!O48=\"\",\"\",'application form'!O48)","v":""},{"$f":"IF('application form'!P48=\"\",\"\",'application form'!P48)","v":""}]
[{"$f":"IF('application form'!A49=\"\",\"\",'application form'!A49)","v":""},{"$f":"IF('application form'!B49=\"\",\"\",'application form'!B49)","v":""},{"$f":"IF('application form'!$D$6=\"\",\"\",'application form'!$D$6)","v":""},{"$f":"IF('application form'!C49=\"\",\"\",'application form'!C49)","v":""},{"$f":"IF('application form'!F49=\"m\",\"m\",IF('application form'!F49=\"f\",\"w\",\"\"))","v":""},{"$f":"IF('application form'!G49=\"\",\"\",'application form'!G49)","v":""},{"$f":"IF('application form'!K49=\"\",\"\",'application form'!K49)","v":""},"",{"$f":"IF('application form'!I49=\"\",\"\",'application form'!I49)","v":""},"",{"$f":"IF('application form'!M49=\"\",\"\",'application form'!M49)","v":""},{"$f":"IF('application form'!N49=\"\",\"\",'application form'!N49)","v":""},{"$f":"IF('application form'!O49=\"\",\"\",'application form'!O49)","v":""},{"$f":"IF('application form'!P49=\"\",\"\",'application form'!P49)","v":""}]
[{"$f":"IF('application form'!A50=\"\",\"\",'application form'!A50)","v":""},{"$f":"IF('application form'!B50=\"\",\"\",'application form'!B50)","v":""},{"$f":"IF('application form'!$D$6=\"\",\"\",'application form'!$D$6)","v":""},{"$f":"IF('application form'!C50=\"\",\"\",'application form'!C50)","v":""},{"$f":"IF('application form'!F50=\"m\",\"m\",IF('application form'!F50=\"f\",\"w\",\"\"))","v":""},{"$f":"IF('application form'!G50=\"\",\"\",'application form'!G50)","v":""},{"$f":"IF('application form'!K50=\"\",\"\",'application form'!K50)","v":""},"",{"$f":"IF('application form'!I50=\"\",\"\",'application form'!I50)","v":""},"",{"$f":"IF('application form'!M50=\"\",\"\",'application form'!M50)","v":""},{"$f":"IF('application form'!N50=\"\",\"\",'application form'!N50)","v":""},{"$f":"IF('application form'!O50=\"\",\"\",'application form'!O50)","v":""},{"$f":"IF('application form'!P50=\"\",\"\",'application form'!P50)","v":""}]
[{"$f":"IF('application form'!A51=\"\",\"\",'application form'!A51)","v":""},{"$f":"IF('application form'!B51=\"\",\"\",'application form'!B51)","v":""},{"$f":"IF('application form'!$D$6=\"\",\"\",'application form'!$D$6)","v":""},{"$f":"IF('application form'!C51=\"\",\"\",'application form'!C51)","v":""},{"$f":"IF('application form'!F51=\"m\",\"m\",IF('application form'!F51=\"f\",\"w\",\"\"))","v":""},{"$f":"IF('application form'!G51=\"\",\"\",'application form'!G51)","v":""},{"$f":"IF('application form'!K51=\"\",\"\",'application form'!K51)","v":""},"",{"$f":"IF('application form'!I51=\"\",\"\",'application form'!I51)","v":""},"",{"$f":"IF('application form'!M51=\"\",\"\",'application form'!M51)","v":""},{"$f":"IF('application form'!N51=\"\",\"\",'application form'!N51)","v":""},{"$f":"IF('application form'!O51=\"\",\"\",'application form'!O51)","v":""},{"$f":"IF('application form'!P51=\"\",\"\",'application form'!P51)","v":""}]
[{"$f":"IF('application form'!A52=\"\",\"\",'application form'!A52)","v":""},{"$f":"IF('application form'!B52=\"\",\"\",'application form'!B52)","v":""},{"$f":"IF('application form'!$D$6=\"\",\"\",'application form'!$D$6)","v":""},{"$f":"IF('application form'!C52=\"\",\"\",'application form'!C52)","v":""},{"$f":"IF('application form'!F52=\"m\",\"m\",IF('application form'!F52=\"f\",\"w\",\"\"))","v":""},{"$f":"IF('application form'!G52=\"\",\"\",'application form'!G52)","v":""},{"$f":"IF('application form'!K52=\"\",\"\",'application form'!K52)","v":""},"",{"$f":"IF('application form'!I52=\"\",\"\",'application form'!I52)","v":""},"",{"$f":"IF('application form'!M52=\"\",\"\",'application form'!M52)","v":""},{"$f":"IF('application form'!N52=\"\",\"\",'application form'!N52)","v":""},{"$f":"IF('application form'!O52=\"\",\"\",'application form'!O52)","v":""},{"$f":"IF('application form'!P52=\"\",\"\",'application form'!P52)","v":""}]
[{"$f":"IF('application form'!A53=\"\",\"\",'application form'!A53)","v":""},{"$f":"IF('application form'!B53=\"\",\"\",'application form'!B53)","v":""},{"$f":"IF('application form'!$D$6=\"\",\"\",'application form'!$D$6)","v":""},{"$f":"IF('application form'!C53=\"\",\"\",'application form'!C53)","v":""},{"$f":"IF('application form'!F53=\"m\",\"m\",IF('application form'!F53=\"f\",\"w\",\"\"))","v":""},{"$f":"IF('application form'!G53=\"\",\"\",'application form'!G53)","v":""},{"$f":"IF('application form'!K53=\"\",\"\",'application form'!K53)","v":""},"",{"$f":"IF('application form'!I53=\"\",\"\",'application form'!I53)","v":""},"",{"$f":"IF('application form'!M53=\"\",\"\",'application form'!M53)","v":""},{"$f":"IF('application form'!N53=\"\",\"\",'application form'!N53)","v":""},{"$f":"IF('application form'!O53=\"\",\"\",'application form'!O53)","v":""},{"$f":"IF('application form'!P53=\"\",\"\",'application form'!P53)","v":""}]
[{"$f":"IF('application form'!A54=\"\",\"\",'application form'!A54)","v":""},{"$f":"IF('application form'!B54=\"\",\"\",'application form'!B54)","v":""},{"$f":"IF('application form'!$D$6=\"\",\"\",'application form'!$D$6)","v":""},{"$f":"IF('application form'!C54=\"\",\"\",'application form'!C54)","v":""},{"$f":"IF('application form'!F54=\"m\",\"m\",IF('application form'!F54=\"f\",\"w\",\"\"))","v":""},{"$f":"IF('application form'!G54=\"\",\"\",'application form'!G54)","v":""},{"$f":"IF('application form'!K54=\"\",\"\",'application form'!K54)","v":""},"",{"$f":"IF('application form'!I54=\"\",\"\",'application form'!I54)","v":""},"",{"$f":"IF('application form'!M54=\"\",\"\",'application form'!M54)","v":""},{"$f":"IF('application form'!N54=\"\",\"\",'application form'!N54)","v":""},{"$f":"IF('application form'!O54=\"\",\"\",'application form'!O54)","v":""},{"$f":"IF('application form'!P54=\"\",\"\",'application form'!P54)","v":""}]
[{"$f":"IF('application form'!A55=\"\",\"\",'application form'!A55)","v":""},{"$f":"IF('application form'!B55=\"\",\"\",'application form'!B55)","v":""},{"$f":"IF('application form'!$D$6=\"\",\"\",'application form'!$D$6)","v":""},{"$f":"IF('application form'!C55=\"\",\"\",'application form'!C55)","v":""},{"$f":"IF('application form'!F55=\"m\",\"m\",IF('application form'!F55=\"f\",\"w\",\"\"))","v":""},{"$f":"IF('application form'!G55=\"\",\"\",'application form'!G55)","v":""},{"$f":"IF('application form'!K55=\"\",\"\",'application form'!K55)","v":""},"",{"$f":"IF('application form'!I55=\"\",\"\",'application form'!I55)","v":""},"",{"$f":"IF('application form'!M55=\"\",\"\",'application form'!M55)","v":""},{"$f":"IF('application form'!N55=\"\",\"\",'application form'!N55)","v":""},{"$f":"IF('application form'!O55=\"\",\"\",'application form'!O55)","v":""},{"$f":"IF('application form'!P55=\"\",\"\",'application form'!P55)","v":""}]
[{"$f":"IF('application form'!A56=\"\",\"\",'application form'!A56)","v":""},{"$f":"IF('application form'!B56=\"\",\"\",'application form'!B56)","v":""},{"$f":"IF('application form'!$D$6=\"\",\"\",'application form'!$D$6)","v":""},{"$f":"IF('application form'!C56=\"\",\"\",'application form'!C56)","v":""},{"$f":"IF('application form'!F56=\"m\",\"m\",IF('application form'!F56=\"f\",\"w\",\"\"))","v":""},{"$f":"IF('application form'!G56=\"\",\"\",'application form'!G56)","v":""},{"$f":"IF('application form'!K56=\"\",\"\",'application form'!K56)","v":""},"",{"$f":"IF('application form'!I56=\"\",\"\",'application form'!I56)","v":""},"",{"$f":"IF('application form'!M56=\"\",\"\",'application form'!M56)","v":""},{"$f":"IF('application form'!N56=\"\",\"\",'application form'!N56)","v":""},{"$f":"IF('application form'!O56=\"\",\"\",'application form'!O56)","v":""},{"$f":"IF('application form'!P56=\"\",\"\",'application form'!P56)","v":""}]
[{"$f":"IF('application form'!A57=\"\",\"\",'application form'!A57)","v":""},{"$f":"IF('application form'!B57=\"\",\"\",'application form'!B57)","v":""},{"$f":"IF('application form'!$D$6=\"\",\"\",'application form'!$D$6)","v":""},{"$f":"IF('application form'!C57=\"\",\"\",'application form'!C57)","v":""},{"$f":"IF('application form'!F57=\"m\",\"m\",IF('application form'!F57=\"f\",\"w\",\"\"))","v":""},{"$f":"IF('application form'!G57=\"\",\"\",'application form'!G57)","v":""},{"$f":"IF('application form'!K57=\"\",\"\",'application form'!K57)","v":""},"",{"$f":"IF('application form'!I57=\"\",\"\",'application form'!I57)","v":""},"",{"$f":"IF('application form'!M57=\"\",\"\",'application form'!M57)","v":""},{"$f":"IF('application form'!N57=\"\",\"\",'application form'!N57)","v":""},{"$f":"IF('application form'!O57=\"\",\"\",'application form'!O57)","v":""},{"$f":"IF('application form'!P57=\"\",\"\",'application form'!P57)","v":""}]

{"sheet":"Team","index":2,"n_rows":27,"n_cols":10,"rows_kept":27,"cut":false,"hidden":true,"merged":[]}
["Verein","Familienname","Vorname","Geb. Datum","m / w","Grad.","cm Kg","Pre","Kampf","Tul"]
[{"$f":"IF('application form'!D$6=\"\",\"\",'application form'!D$6)","v":""},{"$f":"IF(AND(H2=\"\",I2=\"\",J2=\"\"),\"\",'application form'!A32)","v":""},{"$f":"IF(AND(H2=\"\",I2=\"\",J2=\"\"),\"\",'application form'!B32)","v":""},{"$f":"IF(AND(H2=\"\",I2=\"\",J2=\"\"),\"\",'application form'!C32)","v":""},{"$f":"IF(AND(H2=\"\",I2=\"\",J2=\"\"),\"\",'application form'!F32)","v":""},{"$f":"IF(AND(H2=\"\",I2=\"\",J2=\"\"),\"\",'application form'!G32)","v":""},{"$f":"IF(AND(H2=\"\",I2=\"\",J2=\"\"),\"\",'application form'!I32)","v":""},{"$f":"IF('application form'!N32=\"\",\"\",'application form'!N32)","v":""},{"$f":"IF('application form'!O32=\"\",\"\",'application form'!O32)","v":""},{"$f":"IF('application form'!P32=\"\",\"\",'application form'!P32)","v":""}]
[{"$f":"IF('application form'!D$6=\"\",\"\",'application form'!D$6)","v":""},{"$f":"IF(AND(H3=\"\",I3=\"\",J3=\"\"),\"\",'application form'!A33)","v":""},{"$f":"IF(AND(H3=\"\",I3=\"\",J3=\"\"),\"\",'application form'!B33)","v":""},{"$f":"IF(AND(H3=\"\",I3=\"\",J3=\"\"),\"\",'application form'!C33)","v":""},{"$f":"IF(AND(H3=\"\",I3=\"\",J3=\"\"),\"\",'application form'!F33)","v":""},{"$f":"IF(AND(H3=\"\",I3=\"\",J3=\"\"),\"\",'application form'!G33)","v":""},{"$f":"IF(AND(H3=\"\",I3=\"\",J3=\"\"),\"\",'application form'!I33)","v":""},{"$f":"IF('application form'!N33=\"\",\"\",'application form'!N33)","v":""},{"$f":"IF('application form'!O33=\"\",\"\",'application form'!O33)","v":""},{"$f":"IF('application form'!P33=\"\",\"\",'application form'!P33)","v":""}]
[{"$f":"IF('application form'!D$6=\"\",\"\",'application form'!D$6)","v":""},{"$f":"IF(AND(H4=\"\",I4=\"\",J4=\"\"),\"\",'application form'!A34)","v":""},{"$f":"IF(AND(H4=\"\",I4=\"\",J4=\"\"),\"\",'application form'!B34)","v":""},{"$f":"IF(AND(H4=\"\",I4=\"\",J4=\"\"),\"\",'application form'!C34)","v":""},{"$f":"IF(AND(H4=\"\",I4=\"\",J4=\"\"),\"\",'application form'!F34)","v":""},{"$f":"IF(AND(H4=\"\",I4=\"\",J4=\"\"),\"\",'application form'!G34)","v":""},{"$f":"IF(AND(H4=\"\",I4=\"\",J4=\"\"),\"\",'application form'!I34)","v":""},{"$f":"IF('application form'!N34=\"\",\"\",'application form'!N34)","v":""},{"$f":"IF('application form'!O34=\"\",\"\",'application form'!O34)","v":""},{"$f":"IF('application form'!P34=\"\",\"\",'application form'!P34)","v":""}]
[{"$f":"IF('application form'!D$6=\"\",\"\",'application form'!D$6)","v":""},{"$f":"IF(AND(H5=\"\",I5=\"\",J5=\"\"),\"\",'application form'!A35)","v":""},{"$f":"IF(AND(H5=\"\",I5=\"\",J5=\"\"),\"\",'application form'!B35)","v":""},{"$f":"IF(AND(H5=\"\",I5=\"\",J5=\"\"),\"\",'application form'!C35)","v":""},{"$f":"IF(AND(H5=\"\",I5=\"\",J5=\"\"),\"\",'application form'!F35)","v":""},{"$f":"IF(AND(H5=\"\",I5=\"\",J5=\"\"),\"\",'application form'!G35)","v":""},{"$f":"IF(AND(H5=\"\",I5=\"\",J5=\"\"),\"\",'application form'!I35)","v":""},{"$f":"IF('application form'!N35=\"\",\"\",'application form'!N35)","v":""},{"$f":"IF('application form'!O35=\"\",\"\",'application form'!O35)","v":""},{"$f":"IF('application form'!P35=\"\",\"\",'application form'!P35)","v":""}]
[{"$f":"IF('application form'!D$6=\"\",\"\",'application form'!D$6)","v":""},{"$f":"IF(AND(H6=\"\",I6=\"\",J6=\"\"),\"\",'application form'!A36)","v":""},{"$f":"IF(AND(H6=\"\",I6=\"\",J6=\"\"),\"\",'application form'!B36)","v":""},{"$f":"IF(AND(H6=\"\",I6=\"\",J6=\"\"),\"\",'application form'!C36)","v":""},{"$f":"IF(AND(H6=\"\",I6=\"\",J6=\"\"),\"\",'application form'!F36)","v":""},{"$f":"IF(AND(H6=\"\",I6=\"\",J6=\"\"),\"\",'application form'!G36)","v":""},{"$f":"IF(AND(H6=\"\",I6=\"\",J6=\"\"),\"\",'application form'!I36)","v":""},{"$f":"IF('application form'!N36=\"\",\"\",'application form'!N36)","v":""},{"$f":"IF('application form'!O36=\"\",\"\",'application form'!O36)","v":""},{"$f":"IF('application form'!P36=\"\",\"\",'application form'!P36)","v":""}]
[{"$f":"IF('application form'!D$6=\"\",\"\",'application form'!D$6)","v":""},{"$f":"IF(AND(H7=\"\",I7=\"\",J7=\"\"),\"\",'application form'!A37)","v":""},{"$f":"IF(AND(H7=\"\",I7=\"\",J7=\"\"),\"\",'application form'!B37)","v":""},{"$f":"IF(AND(H7=\"\",I7=\"\",J7=\"\"),\"\",'application form'!C37)","v":""},{"$f":"IF(AND(H7=\"\",I7=\"\",J7=\"\"),\"\",'application form'!F37)","v":""},{"$f":"IF(AND(H7=\"\",I7=\"\",J7=\"\"),\"\",'application form'!G37)","v":""},{"$f":"IF(AND(H7=\"\",I7=\"\",J7=\"\"),\"\",'application form'!I37)","v":""},{"$f":"IF('application form'!N37=\"\",\"\",'application form'!N37)","v":""},{"$f":"IF('application form'!O37=\"\",\"\",'application form'!O37)","v":""},{"$f":"IF('application form'!P37=\"\",\"\",'application form'!P37)","v":""}]
[{"$f":"IF('application form'!D$6=\"\",\"\",'application form'!D$6)","v":""},{"$f":"IF(AND(H8=\"\",I8=\"\",J8=\"\"),\"\",'application form'!A38)","v":""},{"$f":"IF(AND(H8=\"\",I8=\"\",J8=\"\"),\"\",'application form'!B38)","v":""},{"$f":"IF(AND(H8=\"\",I8=\"\",J8=\"\"),\"\",'application form'!C38)","v":""},{"$f":"IF(AND(H8=\"\",I8=\"\",J8=\"\"),\"\",'application form'!F38)","v":""},{"$f":"IF(AND(H8=\"\",I8=\"\",J8=\"\"),\"\",'application form'!G38)","v":""},{"$f":"IF(AND(H8=\"\",I8=\"\",J8=\"\"),\"\",'application form'!I38)","v":""},{"$f":"IF('application form'!N38=\"\",\"\",'application form'!N38)","v":""},{"$f":"IF('application form'!O38=\"\",\"\",'application form'!O38)","v":""},{"$f":"IF('application form'!P38=\"\",\"\",'application form'!P38)","v":""}]
[{"$f":"IF('application form'!D$6=\"\",\"\",'application form'!D$6)","v":""},{"$f":"IF(AND(H9=\"\",I9=\"\",J9=\"\"),\"\",'application form'!A39)","v":""},{"$f":"IF(AND(H9=\"\",I9=\"\",J9=\"\"),\"\",'application form'!B39)","v":""},{"$f":"IF(AND(H9=\"\",I9=\"\",J9=\"\"),\"\",'application form'!C39)","v":""},{"$f":"IF(AND(H9=\"\",I9=\"\",J9=\"\"),\"\",'application form'!F39)","v":""},{"$f":"IF(AND(H9=\"\",I9=\"\",J9=\"\"),\"\",'application form'!G39)","v":""},{"$f":"IF(AND(H9=\"\",I9=\"\",J9=\"\"),\"\",'application form'!I39)","v":""},{"$f":"IF('application form'!N39=\"\",\"\",'application form'!N39)","v":""},{"$f":"IF('application form'!O39=\"\",\"\",'application form'!O39)","v":""},{"$f":"IF('application form'!P39=\"\",\"\",'application form'!P39)","v":""}]
[{"$f":"IF('application form'!D$6=\"\",\"\",'application form'!D$6)","v":""},{"$f":"IF(AND(H10=\"\",I10=\"\",J10=\"\"),\"\",'application form'!A40)","v":""},{"$f":"IF(AND(H10=\"\",I10=\"\",J10=\"\"),\"\",'application form'!B40)","v":""},{"$f":"IF(AND(H10=\"\",I10=\"\",J10=\"\"),\"\",'application form'!C40)","v":""},{"$f":"IF(AND(H10=\"\",I10=\"\",J10=\"\"),\"\",'application form'!F40)","v":""},{"$f":"IF(AND(H10=\"\",I10=\"\",J10=\"\"),\"\",'application form'!G40)","v":""},{"$f":"IF(AND(H10=\"\",I10=\"\",J10=\"\"),\"\",'application form'!I40)","v":""},{"$f":"IF('application form'!N40=\"\",\"\",'application form'!N40)","v":""},{"$f":"IF('application form'!O40=\"\",\"\",'application form'!O40)","v":""},{"$f":"IF('application form'!P40=\"\",\"\",'application form'!P40)","v":""}]
[{"$f":"IF('application form'!D$6=\"\",\"\",'application form'!D$6)","v":""},{"$f":"IF(AND(H11=\"\",I11=\"\",J11=\"\"),\"\",'application form'!A41)","v":""},{"$f":"IF(AND(H11=\"\",I11=\"\",J11=\"\"),\"\",'application form'!B41)","v":""},{"$f":"IF(AND(H11=\"\",I11=\"\",J11=\"\"),\"\",'application form'!C41)","v":""},{"$f":"IF(AND(H11=\"\",I11=\"\",J11=\"\"),\"\",'application form'!F41)","v":""},{"$f":"IF(AND(H11=\"\",I11=\"\",J11=\"\"),\"\",'application form'!G41)","v":""},{"$f":"IF(AND(H11=\"\",I11=\"\",J11=\"\"),\"\",'application form'!I41)","v":""},{"$f":"IF('application form'!N41=\"\",\"\",'application form'!N41)","v":""},{"$f":"IF('application form'!O41=\"\",\"\",'application form'!O41)","v":""},{"$f":"IF('application form'!P41=\"\",\"\",'application form'!P41)","v":""}]
[{"$f":"IF('application form'!D$6=\"\",\"\",'application form'!D$6)","v":""},{"$f":"IF(AND(H12=\"\",I12=\"\",J12=\"\"),\"\",'application form'!A42)","v":""},{"$f":"IF(AND(H12=\"\",I12=\"\",J12=\"\"),\"\",'application form'!B42)","v":""},{"$f":"IF(AND(H12=\"\",I12=\"\",J12=\"\"),\"\",'application form'!C42)","v":""},{"$f":"IF(AND(H12=\"\",I12=\"\",J12=\"\"),\"\",'application form'!F42)","v":""},{"$f":"IF(AND(H12=\"\",I12=\"\",J12=\"\"),\"\",'application form'!G42)","v":""},{"$f":"IF(AND(H12=\"\",I12=\"\",J12=\"\"),\"\",'application form'!I42)","v":""},{"$f":"IF('application form'!N42=\"\",\"\",'application form'!N42)","v":""},{"$f":"IF('application form'!O42=\"\",\"\",'application form'!O42)","v":""},{"$f":"IF('application form'!P42=\"\",\"\",'application form'!P42)","v":""}]
[{"$f":"IF('application form'!D$6=\"\",\"\",'application form'!D$6)","v":""},{"$f":"IF(AND(H13=\"\",I13=\"\",J13=\"\"),\"\",'application form'!A43)","v":""},{"$f":"IF(AND(H13=\"\",I13=\"\",J13=\"\"),\"\",'application form'!B43)","v":""},{"$f":"IF(AND(H13=\"\",I13=\"\",J13=\"\"),\"\",'application form'!C43)","v":""},{"$f":"IF(AND(H13=\"\",I13=\"\",J13=\"\"),\"\",'application form'!F43)","v":""},{"$f":"IF(AND(H13=\"\",I13=\"\",J13=\"\"),\"\",'application form'!G43)","v":""},{"$f":"IF(AND(H13=\"\",I13=\"\",J13=\"\"),\"\",'application form'!I43)","v":""},{"$f":"IF('application form'!N43=\"\",\"\",'application form'!N43)","v":""},{"$f":"IF('application form'!O43=\"\",\"\",'application form'!O43)","v":""},{"$f":"IF('application form'!P43=\"\",\"\",'application form'!P43)","v":""}]
[{"$f":"IF('application form'!D$6=\"\",\"\",'application form'!D$6)","v":""},{"$f":"IF(AND(H14=\"\",I14=\"\",J14=\"\"),\"\",'application form'!A44)","v":""},{"$f":"IF(AND(H14=\"\",I14=\"\",J14=\"\"),\"\",'application form'!B44)","v":""},{"$f":"IF(AND(H14=\"\",I14=\"\",J14=\"\"),\"\",'application form'!C44)","v":""},{"$f":"IF(AND(H14=\"\",I14=\"\",J14=\"\"),\"\",'application form'!F44)","v":""},{"$f":"IF(AND(H14=\"\",I14=\"\",J14=\"\"),\"\",'application form'!G44)","v":""},{"$f":"IF(AND(H14=\"\",I14=\"\",J14=\"\"),\"\",'application form'!I44)","v":""},{"$f":"IF('application form'!N44=\"\",\"\",'application form'!N44)","v":""},{"$f":"IF('application form'!O44=\"\",\"\",'application form'!O44)","v":""},{"$f":"IF('application form'!P44=\"\",\"\",'application form'!P44)","v":""}]
[{"$f":"IF('application form'!D$6=\"\",\"\",'application form'!D$6)","v":""},{"$f":"IF(AND(H15=\"\",I15=\"\",J15=\"\"),\"\",'application form'!A45)","v":""},{"$f":"IF(AND(H15=\"\",I15=\"\",J15=\"\"),\"\",'application form'!B45)","v":""},{"$f":"IF(AND(H15=\"\",I15=\"\",J15=\"\"),\"\",'application form'!C45)","v":""},{"$f":"IF(AND(H15=\"\",I15=\"\",J15=\"\"),\"\",'application form'!F45)","v":""},{"$f":"IF(AND(H15=\"\",I15=\"\",J15=\"\"),\"\",'application form'!G45)","v":""},{"$f":"IF(AND(H15=\"\",I15=\"\",J15=\"\"),\"\",'application form'!I45)","v":""},{"$f":"IF('application form'!N45=\"\",\"\",'application form'!N45)","v":""},{"$f":"IF('application form'!O45=\"\",\"\",'application form'!O45)","v":""},{"$f":"IF('application form'!P45=\"\",\"\",'application form'!P45)","v":""}]
[{"$f":"IF('application form'!D$6=\"\",\"\",'application form'!D$6)","v":""},{"$f":"IF(AND(H16=\"\",I16=\"\",J16=\"\"),\"\",'application form'!A46)","v":""},{"$f":"IF(AND(H16=\"\",I16=\"\",J16=\"\"),\"\",'application form'!B46)","v":""},{"$f":"IF(AND(H16=\"\",I16=\"\",J16=\"\"),\"\",'application form'!C46)","v":""},{"$f":"IF(AND(H16=\"\",I16=\"\",J16=\"\"),\"\",'application form'!F46)","v":""},{"$f":"IF(AND(H16=\"\",I16=\"\",J16=\"\"),\"\",'application form'!G46)","v":""},{"$f":"IF(AND(H16=\"\",I16=\"\",J16=\"\"),\"\",'application form'!I46)","v":""},{"$f":"IF('application form'!N46=\"\",\"\",'application form'!N46)","v":""},{"$f":"IF('application form'!O46=\"\",\"\",'application form'!O46)","v":""},{"$f":"IF('application form'!P46=\"\",\"\",'application form'!P46)","v":""}]
[{"$f":"IF('application form'!D$6=\"\",\"\",'application form'!D$6)","v":""},{"$f":"IF(AND(H17=\"\",I17=\"\",J17=\"\"),\"\",'application form'!A47)","v":""},{"$f":"IF(AND(H17=\"\",I17=\"\",J17=\"\"),\"\",'application form'!B47)","v":""},{"$f":"IF(AND(H17=\"\",I17=\"\",J17=\"\"),\"\",'application form'!C47)","v":""},{"$f":"IF(AND(H17=\"\",I17=\"\",J17=\"\"),\"\",'application form'!F47)","v":""},{"$f":"IF(AND(H17=\"\",I17=\"\",J17=\"\"),\"\",'application form'!G47)","v":""},{"$f":"IF(AND(H17=\"\",I17=\"\",J17=\"\"),\"\",'application form'!I47)","v":""},{"$f":"IF('application form'!N47=\"\",\"\",'application form'!N47)","v":""},{"$f":"IF('application form'!O47=\"\",\"\",'application form'!O47)","v":""},{"$f":"IF('application form'!P47=\"\",\"\",'application form'!P47)","v":""}]
[{"$f":"IF('application form'!D$6=\"\",\"\",'application form'!D$6)","v":""},{"$f":"IF(AND(H18=\"\",I18=\"\",J18=\"\"),\"\",'application form'!A48)","v":""},{"$f":"IF(AND(H18=\"\",I18=\"\",J18=\"\"),\"\",'application form'!B48)","v":""},{"$f":"IF(AND(H18=\"\",I18=\"\",J18=\"\"),\"\",'application form'!C48)","v":""},{"$f":"IF(AND(H18=\"\",I18=\"\",J18=\"\"),\"\",'application form'!F48)","v":""},{"$f":"IF(AND(H18=\"\",I18=\"\",J18=\"\"),\"\",'application form'!G48)","v":""},{"$f":"IF(AND(H18=\"\",I18=\"\",J18=\"\"),\"\",'application form'!I48)","v":""},{"$f":"IF('application form'!N48=\"\",\"\",'application form'!N48)","v":""},{"$f":"IF('application form'!O48=\"\",\"\",'application form'!O48)","v":""},{"$f":"IF('application form'!P48=\"\",\"\",'application form'!P48)","v":""}]
[{"$f":"IF('application form'!D$6=\"\",\"\",'application form'!D$6)","v":""},{"$f":"IF(AND(H19=\"\",I19=\"\",J19=\"\"),\"\",'application form'!A49)","v":""},{"$f":"IF(AND(H19=\"\",I19=\"\",J19=\"\"),\"\",'application form'!B49)","v":""},{"$f":"IF(AND(H19=\"\",I19=\"\",J19=\"\"),\"\",'application form'!C49)","v":""},{"$f":"IF(AND(H19=\"\",I19=\"\",J19=\"\"),\"\",'application form'!F49)","v":""},{"$f":"IF(AND(H19=\"\",I19=\"\",J19=\"\"),\"\",'application form'!G49)","v":""},{"$f":"IF(AND(H19=\"\",I19=\"\",J19=\"\"),\"\",'application form'!I49)","v":""},{"$f":"IF('application form'!N49=\"\",\"\",'application form'!N49)","v":""},{"$f":"IF('application form'!O49=\"\",\"\",'application form'!O49)","v":""},{"$f":"IF('application form'!P49=\"\",\"\",'application form'!P49)","v":""}]
[{"$f":"IF('application form'!D$6=\"\",\"\",'application form'!D$6)","v":""},{"$f":"IF(AND(H20=\"\",I20=\"\",J20=\"\"),\"\",'application form'!A50)","v":""},{"$f":"IF(AND(H20=\"\",I20=\"\",J20=\"\"),\"\",'application form'!B50)","v":""},{"$f":"IF(AND(H20=\"\",I20=\"\",J20=\"\"),\"\",'application form'!C50)","v":""},{"$f":"IF(AND(H20=\"\",I20=\"\",J20=\"\"),\"\",'application form'!F50)","v":""},{"$f":"IF(AND(H20=\"\",I20=\"\",J20=\"\"),\"\",'application form'!G50)","v":""},{"$f":"IF(AND(H20=\"\",I20=\"\",J20=\"\"),\"\",'application form'!I50)","v":""},{"$f":"IF('application form'!N50=\"\",\"\",'application form'!N50)","v":""},{"$f":"IF('application form'!O50=\"\",\"\",'application form'!O50)","v":""},{"$f":"IF('application form'!P50=\"\",\"\",'application form'!P50)","v":""}]
[{"$f":"IF('application form'!D$6=\"\",\"\",'application form'!D$6)","v":""},{"$f":"IF(AND(H21=\"\",I21=\"\",J21=\"\"),\"\",'application form'!A51)","v":""},{"$f":"IF(AND(H21=\"\",I21=\"\",J21=\"\"),\"\",'application form'!B51)","v":""},{"$f":"IF(AND(H21=\"\",I21=\"\",J21=\"\"),\"\",'application form'!C51)","v":""},{"$f":"IF(AND(H21=\"\",I21=\"\",J21=\"\"),\"\",'application form'!F51)","v":""},{"$f":"IF(AND(H21=\"\",I21=\"\",J21=\"\"),\"\",'application form'!G51)","v":""},{"$f":"IF(AND(H21=\"\",I21=\"\",J21=\"\"),\"\",'application form'!I51)","v":""},{"$f":"IF('application form'!N51=\"\",\"\",'application form'!N51)","v":""},{"$f":"IF('application form'!O51=\"\",\"\",'application form'!O51)","v":""},{"$f":"IF('application form'!P51=\"\",\"\",'application form'!P51)","v":""}]
[{"$f":"IF('application form'!D$6=\"\",\"\",'application form'!D$6)","v":""},{"$f":"IF(AND(H22=\"\",I22=\"\",J22=\"\"),\"\",'application form'!A52)","v":""},{"$f":"IF(AND(H22=\"\",I22=\"\",J22=\"\"),\"\",'application form'!B52)","v":""},{"$f":"IF(AND(H22=\"\",I22=\"\",J22=\"\"),\"\",'application form'!C52)","v":""},{"$f":"IF(AND(H22=\"\",I22=\"\",J22=\"\"),\"\",'application form'!F52)","v":""},{"$f":"IF(AND(H22=\"\",I22=\"\",J22=\"\"),\"\",'application form'!G52)","v":""},{"$f":"IF(AND(H22=\"\",I22=\"\",J22=\"\"),\"\",'application form'!I52)","v":""},{"$f":"IF('application form'!N52=\"\",\"\",'application form'!N52)","v":""},{"$f":"IF('application form'!O52=\"\",\"\",'application form'!O52)","v":""},{"$f":"IF('application form'!P52=\"\",\"\",'application form'!P52)","v":""}]
[{"$f":"IF('application form'!D$6=\"\",\"\",'application form'!D$6)","v":""},{"$f":"IF(AND(H23=\"\",I23=\"\",J23=\"\"),\"\",'application form'!A53)","v":""},{"$f":"IF(AND(H23=\"\",I23=\"\",J23=\"\"),\"\",'application form'!B53)","v":""},{"$f":"IF(AND(H23=\"\",I23=\"\",J23=\"\"),\"\",'application form'!C53)","v":""},{"$f":"IF(AND(H23=\"\",I23=\"\",J23=\"\"),\"\",'application form'!F53)","v":""},{"$f":"IF(AND(H23=\"\",I23=\"\",J23=\"\"),\"\",'application form'!G53)","v":""},{"$f":"IF(AND(H23=\"\",I23=\"\",J23=\"\"),\"\",'application form'!I53)","v":""},{"$f":"IF('application form'!N53=\"\",\"\",'application form'!N53)","v":""},{"$f":"IF('application form'!O53=\"\",\"\",'application form'!O53)","v":""},{"$f":"IF('application form'!P53=\"\",\"\",'application form'!P53)","v":""}]
[{"$f":"IF('application form'!D$6=\"\",\"\",'application form'!D$6)","v":""},{"$f":"IF(AND(H24=\"\",I24=\"\",J24=\"\"),\"\",'application form'!A54)","v":""},{"$f":"IF(AND(H24=\"\",I24=\"\",J24=\"\"),\"\",'application form'!B54)","v":""},{"$f":"IF(AND(H24=\"\",I24=\"\",J24=\"\"),\"\",'application form'!C54)","v":""},{"$f":"IF(AND(H24=\"\",I24=\"\",J24=\"\"),\"\",'application form'!F54)","v":""},{"$f":"IF(AND(H24=\"\",I24=\"\",J24=\"\"),\"\",'application form'!G54)","v":""},{"$f":"IF(AND(H24=\"\",I24=\"\",J24=\"\"),\"\",'application form'!I54)","v":""},{"$f":"IF('application form'!N54=\"\",\"\",'application form'!N54)","v":""},{"$f":"IF('application form'!O54=\"\",\"\",'application form'!O54)","v":""},{"$f":"IF('application form'!P54=\"\",\"\",'application form'!P54)","v":""}]
[{"$f":"IF('application form'!D$6=\"\",\"\",'application form'!D$6)","v":""},{"$f":"IF(AND(H25=\"\",I25=\"\",J25=\"\"),\"\",'application form'!A55)","v":""},{"$f":"IF(AND(H25=\"\",I25=\"\",J25=\"\"),\"\",'application form'!B55)","v":""},{"$f":"IF(AND(H25=\"\",I25=\"\",J25=\"\"),\"\",'application form'!C55)","v":""},{"$f":"IF(AND(H25=\"\",I25=\"\",J25=\"\"),\"\",'application form'!F55)","v":""},{"$f":"IF(AND(H25=\"\",I25=\"\",J25=\"\"),\"\",'application form'!G55)","v":""},{"$f":"IF(AND(H25=\"\",I25=\"\",J25=\"\"),\"\",'application form'!I55)","v":""},{"$f":"IF('application form'!N55=\"\",\"\",'application form'!N55)","v":""},{"$f":"IF('application form'!O55=\"\",\"\",'application form'!O55)","v":""},{"$f":"IF('application form'!P55=\"\",\"\",'application form'!P55)","v":""}]
[{"$f":"IF('application form'!D$6=\"\",\"\",'application form'!D$6)","v":""},{"$f":"IF(AND(H26=\"\",I26=\"\",J26=\"\"),\"\",'application form'!A56)","v":""},{"$f":"IF(AND(H26=\"\",I26=\"\",J26=\"\"),\"\",'application form'!B56)","v":""},{"$f":"IF(AND(H26=\"\",I26=\"\",J26=\"\"),\"\",'application form'!C56)","v":""},{"$f":"IF(AND(H26=\"\",I26=\"\",J26=\"\"),\"\",'application form'!F56)","v":""},{"$f":"IF(AND(H26=\"\",I26=\"\",J26=\"\"),\"\",'application form'!G56)","v":""},{"$f":"IF(AND(H26=\"\",I26=\"\",J26=\"\"),\"\",'application form'!I56)","v":""},{"$f":"IF('application form'!N56=\"\",\"\",'application form'!N56)","v":""},{"$f":"IF('application form'!O56=\"\",\"\",'application form'!O56)","v":""},{"$f":"IF('application form'!P56=\"\",\"\",'application form'!P56)","v":""}]
[{"$f":"IF('application form'!D$6=\"\",\"\",'application form'!D$6)","v":""},{"$f":"IF(AND(H27=\"\",I27=\"\",J27=\"\"),\"\",'application form'!A57)","v":""},{"$f":"IF(AND(H27=\"\",I27=\"\",J27=\"\"),\"\",'application form'!B57)","v":""},{"$f":"IF(AND(H27=\"\",I27=\"\",J27=\"\"),\"\",'application form'!C57)","v":""},{"$f":"IF(AND(H27=\"\",I27=\"\",J27=\"\"),\"\",'application form'!F57)","v":""},{"$f":"IF(AND(H27=\"\",I27=\"\",J27=\"\"),\"\",'application form'!G57)","v":""},{"$f":"IF(AND(H27=\"\",I27=\"\",J27=\"\"),\"\",'application form'!I57)","v":""},{"$f":"IF('application form'!N57=\"\",\"\",'application form'!N57)","v":""},{"$f":"IF('application form'!O57=\"\",\"\",'application form'!O57)","v":""},{"$f":"IF('application form'!P57=\"\",\"\",'application form'!P57)","v":""}]

{"sheet":"KR Übernahme","index":3,"n_rows":150,"n_cols":20,"rows_kept":150,"cut":false,"hidden":false,"merged":[]}
["Familienname","Vorname","Schule/Verein","Alter","Grad.","o","D1","D2","C","A","B","Name Vorname","Name","Vorname","Alter","Grad","O","D1","D2","C"]
[{"$f":"IF('application form'!B21=\"\",\"\",'application form'!B21)","v":""},{"$f":"IF('application form'!C21=\"\",\"\",'application form'!C21)","v":""},{"$f":"IF('application form'!$D$6=\"\",\"\",'application form'!$D$6)","v":""},null,{"$f":"IF('application form'!D21=\"\",\"\",'application form'!D21)","v":""},null,null,null,null,{"$f":"IF('application form'!E21=\"\",\"\",'application form'!E21)","v":""},{"$f":"IF('application form'!F21=\"\",\"\",'application form'!F21)","v":""},"Adolfs, Colin","Adolfs","Colin","",4,"","","D2",""]
[{"$f":"IF('application form'!B22=\"\",\"\",'application form'!B22)","v":""},{"$f":"IF('application form'!C22=\"\",\"\",'application form'!C22)","v":""},{"$f":"IF('application form'!$D$6=\"\",\"\",'application form'!$D$6)","v":""},null,{"$f":"IF('application form'!D22=\"\",\"\",'application form'!D22)","v":""},null,null,null,null,{"$f":"IF('application form'!E22=\"\",\"\",'application form'!E22)","v":""},{"$f":"IF('application form'!F22=\"\",\"\",'application form'!F22)","v":""},"Ahrens, Jelka","Ahrens","Jelka",19,1,"","","D2",""]
[{"$f":"IF('application form'!B23=\"\",\"\",'application form'!B23)","v":""},{"$f":"IF('application form'!C23=\"\",\"\",'application form'!C23)","v":""},{"$f":"IF('application form'!$D$6=\"\",\"\",'application form'!$D$6)","v":""},null,{"$f":"IF('application form'!D23=\"\",\"\",'application form'!D23)","v":""},null,null,null,null,{"$f":"IF('application form'!E23=\"\",\"\",'application form'!E23)","v":""},{"$f":"IF('application form'!F23=\"\",\"\",'application form'!F23)","v":""},"Aydin, Volkan","Aydin","Volkan",25,1,"","D1","D2",""]
[{"$f":"IF('application form'!B24=\"\",\"\",'application form'!B24)","v":""},{"$f":"IF('application form'!C24=\"\",\"\",'application form'!C24)","v":""},{"$f":"IF('application form'!$D$6=\"\",\"\",'application form'!$D$6)","v":""},null,{"$f":"IF('application form'!D24=\"\",\"\",'application form'!D24)","v":""},null,null,null,null,{"$f":"IF('application form'!E24=\"\",\"\",'application form'!E24)","v":""},{"$f":"IF('application form'!F24=\"\",\"\",'application form'!F24)","v":""},"Bakalarz, Miroslav","Bakalarz","Miroslav",46,2,"","D1","D2",""]
[{"$f":"IF('application form'!B25=\"\",\"\",'application form'!B25)","v":""},{"$f":"IF('application form'!C25=\"\",\"\",'application form'!C25)","v":""},{"$f":"IF('application form'!$D$6=\"\",\"\",'application form'!$D$6)","v":""},null,{"$f":"IF('application form'!D25=\"\",\"\",'application form'!D25)","v":""},null,null,null,null,{"$f":"IF('application form'!E25=\"\",\"\",'application form'!E25)","v":""},{"$f":"IF('application form'!F25=\"\",\"\",'application form'!F25)","v":""},"Bell, Gerald","Bell","Gerald",56,-1,"","","D2",""]
[{"$f":"IF('application form'!B26=\"\",\"\",'application form'!B26)","v":""},{"$f":"IF('application form'!C26=\"\",\"\",'application form'!C26)","v":""},{"$f":"IF('application form'!$D$6=\"\",\"\",'application form'!$D$6)","v":""},null,{"$f":"IF('application form'!D26=\"\",\"\",'application form'!D26)","v":""},null,null,null,null,{"$f":"IF('application form'!E26=\"\",\"\",'application form'!E26)","v":""},{"$f":"IF('application form'!F26=\"\",\"\",'application form'!F26)","v":""},"Berg, Thomas","Berg","Thomas",43,4,"","D1","D2","C"]
[{"$f":"IF('application form'!B27=\"\",\"\",'application form'!B27)","v":""},{"$f":"IF('application form'!C27=\"\",\"\",'application form'!C27)","v":""},{"$f":"IF('application form'!$D$6=\"\",\"\",'application form'!$D$6)","v":""},null,{"$f":"IF('application form'!D27=\"\",\"\",'application form'!D27)","v":""},null,null,null,null,{"$f":"IF('application form'!E27=\"\",\"\",'application form'!E27)","v":""},{"$f":"IF('application form'!F27=\"\",\"\",'application form'!F27)","v":""},"Bergen, Dimitri","Bergen","Dimitri",29,-1,"","","D2",""]
[{"$f":"IF('application form'!B28=\"\",\"\",'application form'!B28)","v":""},{"$f":"IF('application form'!C28=\"\",\"\",'application form'!C28)","v":""},{"$f":"IF('application form'!$D$6=\"\",\"\",'application form'!$D$6)","v":""},null,{"$f":"IF('application form'!D28=\"\",\"\",'application form'!D28)","v":""},null,null,null,null,{"$f":"IF('application form'!E28=\"\",\"\",'application form'!E28)","v":""},{"$f":"IF('application form'!F28=\"\",\"\",'application form'!F28)","v":""},"Binder, Michael","Binder","Michael",25,2,"","D1","D2",""]
[null,null,null,null,null,null,null,null,null,null,null,"Binzel, Ronald","Binzel","Ronald",38,6,"","D1","D2","C"]
[null,null,null,null,null,null,null,null,null,null,null,"Blätz, Guido","Blätz","Guido",42,6,"","","D2",""]
[null,null,null,null,null,null,null,null,null,null,null,"Blätz, Patricia","Blätz","Patricia",36,4,"","","D2",""]
[null,null,null,null,null,null,null,null,null,null,null,"Blumberg, Jens","Blumberg","Jens",42,1,"","D1","D2",""]
[null,null,null,null,null,null,null,null,null,null,null,"Böttinger, Michael","Böttinger","Michael",23,2,"","","D2",""]
[null,null,null,null,null,null,null,null,null,null,null,"Brecheisen, Judith","Brecheisen","Judith",43,1,"","D1","D2",""]
[null,null,null,null,null,null,null,null,null,null,null,"Brumme, Lennart","Brumme","Lennart","",1,"","D1","D2",""]
[null,null,null,null,null,null,null,null,null,null,null,"Brune, Manfred","Brune","Manfred","",-1,"","","D2",""]
[null,null,null,null,null,null,null,null,null,null,null,"Burghardt, Saskia","Burghardt","Saskia",24,3,"","","D2",""]
[null,null,null,null,null,null,null,null,null,null,null,"D´Amato, Pietro","D´Amato","Pietro",44,4,"","D1","D2",""]
[null,null,null,null,null,null,null,null,null,null,null,"Dabergott, Charlotte","Dabergott","Charlotte",48,1,"","","D2",""]
[null,null,null,null,null,null,null,null,null,null,null,"Dabergott, Sofie","Dabergott","Sofie",21,1,"","","D2",""]
[null,null,null,null,null,null,null,null,null,null,null,"Dalkic, Fatih","Dalkic","Fatih",28,1,"","","D2",""]
[null,null,null,null,null,null,null,null,null,null,null,"Daub, Frank","Daub","Frank","",4,"","","D2",""]
[null,null,null,null,null,null,null,null,null,null,null,"Dege, Mehmet","Dege","Mehmet",47,4,"","","D2",""]
[null,null,null,null,null,null,null,null,null,null,null,"Deledda, Antonio ","Deledda","Antonio ",45,3,"","","D2","C"]
[null,null,null,null,null,null,null,null,null,null,null,"Derksen, Friedrich","Derksen","Friedrich",26,1,"","D1","D2",""]
[null,null,null,null,null,null,null,null,null,null,null,"Deymann, Sven","Deymann","Sven",38,2,"","D1","D2",""]
[null,null,null,null,null,null,null,null,null,null,null,"Di Diego, Monika","Di Diego","Monika",39,3,"","","D2",""]
[null,null,null,null,null,null,null,null,null,null,null,"Dörken, Christoph","Dörken","Christoph","",6,"O","","D2","C"]
[null,null,null,null,null,null,null,null,null,null,null,"Eichinger, Stefan","Eichinger","Stefan",25,-1,"","","D2",""]
[null,null,null,null,null,null,null,null,null,null,null,"Enhuber, Fredy","Enhuber","Fredy",54,4,"","D1","D2",""]
[null,null,null,null,null,null,null,null,null,null,null,"Flügel, Thomas","Flügel","Thomas",44,6,"","","D2",""]
[null,null,null,null,null,null,null,null,null,null,null,"Frederkind, Angelika","Frederkind","Angelika",20,-1,"","D1","D2",""]
[null,null,null,null,null,null,null,null,null,null,null,"Frederkind, Angelika","Frederkind","Angelika",20,-1,"","D1","D2",""]
[null,null,null,null,null,null,null,null,null,null,null,"Frederkind, Michael","Frederkind","Michael",17,1,"","D1","D2",""]
[null,null,null,null,null,null,null,null,null,null,null,"Frederkind, Michael","Frederkind","Michael",17,1,"","D1","D2",""]
[null,null,null,null,null,null,null,null,null,null,null,"Gast, Cherilyn","Gast","Cherilyn",21,1,"","","D2",""]
[null,null,null,null,null,null,null,null,null,null,null,"Gerdes, Jessica","Gerdes","Jessica",30,-2,"","D1","D2",""]
[null,null,null,null,null,null,null,null,null,null,null,"Gerdes, Jessica","Gerdes","Jessica",30,-1,"","D1","D2",""]
[null,null,null,null,null,null,null,null,null,null,null,"Gerhardt, Michael","Gerhardt","Michael",44,-1,"","D1","D2",""]
[null,null,null,null,null,null,null,null,null,null,null,"Gerhardt, Viktoria","Gerhardt","Viktoria",15,1,"","D1","D2",""]
[null,null,null,null,null,null,null,null,null,null,null,"Ghadir, Anna","Ghadir","Anna",40,6,"","","D2","C"]
[null,null,null,null,null,null,null,null,null,null,null,"Glinski, Sergej","Glinski","Sergej",44,1,"","","D2",""]
[null,null,null,null,null,null,null,null,null,null,null,"Glück, Heike","Glück","Heike",43,-1,"","","D2",""]
[null,null,null,null,null,null,null,null,null,null,null,"Glück, Jenny","Glück","Jenny",15,3,"","","D2",""]
[null,null,null,null,null,null,null,null,null,null,null,"Glück, Ralf","Glück","Ralf",47,1,"","","D2",""]
[null,null,null,null,null,null,null,null,null,null,null,"Grnudbacher, Anita","Grnudbacher","Anita",26,4,"","D1","D2",""]
[null,null,null,null,null,null,null,null,null,null,null,"Gurdzhi, Artem","Gurdzhi","Artem",16,-1,"","D1","D2",""]
[null,null,null,null,null,null,null,null,null,null,null,"Gwiasda, Katharina","Gwiasda","Katharina",17,2,"","","D2",""]
[null,null,null,null,null,null,null,null,null,null,null,"Hägele, Rieke","Hägele","Rieke",19,2,"","D1","D2",""]
[null,null,null,null,null,null,null,null,null,null,null,"Harrar, Jürgen","Harrar","Jürgen",48,-2,"","","D2",""]
[null,null,null,null,null,null,null,null,null,null,null,"Harrar, Maik","Harrar","Maik",18,-2,"","","D2",""]
[null,null,null,null,null,null,null,null,null,null,null,"Harries, Tobias","Harries","Tobias",20,1,"","D1","D2",""]
[null,null,null,null,null,null,null,null,null,null,null,"Heinrich, Sven","Heinrich","Sven",39,6,"","D1","D2","C"]
[null,null,null,null,null,null,null,null,null,null,null,"Hellendahl, Alexander","Hellendahl","Alexander",24,2,"","D1","D2",""]
[null,null,null,null,null,null,null,null,null,null,null,"Hellendahl, Bernd","Hellendahl","Bernd",57,4,"","D1","D2","C"]
[null,null,null,null,null,null,null,null,null,null,null,"Hirschi, Pascal","Hirschi","Pascal","",2,"","","D2",""]
[null,null,null,null,null,null,null,null,null,null,null,"Hodussow, Dimitri","Hodussow","Dimitri",37,5,"","","D2","C"]
[null,null,null,null,null,null,null,null,null,null,null,"Hortig, Hans","Hortig","Hans",64,1,"","D1","D2",""]
[null,null,null,null,null,null,null,null,null,null,null,"Hortig, Harald","Hortig","Harald",31,2,"","","D2",""]
[null,null,null,null,null,null,null,null,null,null,null,"Jakob, Astrid","Jakob","Astrid",29,1,"","D1","D2",""]
[null,null,null,null,null,null,null,null,null,null,null,"Junkermann, Sarah","Junkermann","Sarah",21,1,"","D1","D2",""]
[null,null,null,null,null,null,null,null,null,null,null,"Kaya, Sükrü","Kaya","Sükrü",47,4,"","D1","D2",""]
[null,null,null,null,null,null,null,null,null,null,null,"Keßler, Frank","Keßler","Frank",49,-1,"","","D2",""]
[null,null,null,null,null,null,null,null,null,null,null,"Kircher, Aileen","Kircher","Aileen",22,2,"","","D2",""]
[null,null,null,null,null,null,null,null,null,null,null,"Koch , Viktor","Koch ","Viktor",25,1,"","","D2",""]
[null,null,null,null,null,null,null,null,null,null,null,"Köhn, Anton","Köhn","Anton",23,2,"","D1","D2",""]
[null,null,null,null,null,null,null,null,null,null,null,"Köhn, Kyrill","Köhn","Kyrill",17,-1,"","D1","D2",""]
[null,null,null,null,null,null,null,null,null,null,null,"Kolbm, Petra","Kolbm","Petra","",3,"","","D2",""]
[null,null,null,null,null,null,null,null,null,null,null,"Komorowski, Walter","Komorowski","Walter",54,7,"O","D1","D2","C"]
[null,null,null,null,null,null,null,null,null,null,null,"Könemann, Mareike","Könemann","Mareike",21,1,"","","D2",""]
[null,null,null,null,null,null,null,null,null,null,null,"Korbella, Günter","Korbella","Günter",39,1,"","D1","D2",""]
[null,null,null,null,null,null,null,null,null,null,null,"Korona, Sebastian","Korona","Sebastian",36,-1,"","D1","D2",""]
[null,null,null,null,null,null,null,null,null,null,null,"Koysüren, Cankan","Koysüren","Cankan","",4,"","","D2",""]
[null,null,null,null,null,null,null,null,null,null,null,"Krause, Sirko","Krause","Sirko",34,4,"","","D2",""]
[null,null,null,null,null,null,null,null,null,null,null,"Kreutner, Sandra","Kreutner","Sandra",35,3,"","","D2",""]
[null,null,null,null,null,null,null,null,null,null,null,"Lange, Marten  ","Lange","Marten  ",24,3,"","","D2",""]
[null,null,null,null,null,null,null,null,null,null,null,"Lange, Moritz","Lange","Moritz",28,2,"","","D2",""]
[null,null,null,null,null,null,null,null,null,null,null,"Lehne, Sarah","Lehne","Sarah",20,1,"","D1","D2",""]
[null,null,null,null,null,null,null,null,null,null,null,"Leopold, Fred","Leopold","Fred",56,1,"","D1","D2",""]
[null,null,null,null,null,null,null,null,null,null,null,"Less, Dominique","Less","Dominique",20,1,"","","D2",""]
[null,null,null,null,null,null,null,null,null,null,null,"Less, Kai","Less","Kai",50,1,"","D1","D2",""]
[null,null,null,null,null,null,null,null,null,null,null,"Less, Silke","Less","Silke",51,-2,"O","","",""]
[null,null,null,null,null,null,null,null,null,null,null,"Linnerz, Friedhelm","Linnerz","Friedhelm","",2,"","D1","D2",""]
[null,null,null,null,null,null,null,null,null,null,null,"Lorkowski, Katja","Lorkowski","Katja",17,1,"","","D2",""]
[null,null,null,null,null,null,null,null,null,null,null,"Lundschin, Sabine","Lundschin","Sabine",48,1,"","D1","D2",""]
[null,null,null,null,null,null,null,null,null,null,null,"Markl , Josef","Markl ","Josef","",2,"","","D2",""]
[null,null,null,null,null,null,null,null,null,null,null,"Mehrsad, Ahmad","Mehrsad","Ahmad","",5,"","","D2",""]
[null,null,null,null,null,null,null,null,null,null,null,"Mehrsad, Elias","Mehrsad","Elias",18,3,"","","D2",""]
[null,null,null,null,null,null,null,null,null,null,null,"Meisel, Jonas","Meisel","Jonas",21,2,"","","D2",""]
[null,null,null,null,null,null,null,null,null,null,null,"Melius, Christoph","Melius","Christoph",23,1,"","D1","D2",""]
[null,null,null,null,null,null,null,null,null,null,null,"Meyer, Jens","Meyer","Jens",42,2,"","D1","D2",""]
[null,null,null,null,null,null,null,null,null,null,null,"Mitri, Gassem","Mitri","Gassem","",6,"","D1","D2","C"]
[null,null,null,null,null,null,null,null,null,null,null,"Motzkus, Jasmin","Motzkus","Jasmin",17,-1,"","","D2",""]
[null,null,null,null,null,null,null,null,null,null,null,"Müller , Tim","Müller ","Tim",21,1,"","","D2",""]
[null,null,null,null,null,null,null,null,null,null,null,"Naderpur, Niele","Naderpur","Niele","",1,"","","D2",""]
[null,null,null,null,null,null,null,null,null,null,null,"Niven, Andrew","Niven","Andrew","",6,"","","D2","C"]
[null,null,null,null,null,null,null,null,null,null,null,"Ormankiran, Ilyas","Ormankiran","Ilyas",45,4,"","D1","D2","C"]
[null,null,null,null,null,null,null,null,null,null,null,"Peter, Melanie","Peter","Melanie",27,2,"","","D2",""]
[null,null,null,null,null,null,null,null,null,null,null,"Pis, Alexander","Pis","Alexander",33,4,"","","D2",""]
[null,null,null,null,null,null,null,null,null,null,null,"Prillwitz, Manuela","Prillwitz","Manuela",26,-1,"","","D2",""]
[null,null,null,null,null,null,null,null,null,null,null,"Pudlo, Justin","Pudlo","Justin",18,1,"","","D2",""]
[null,null,null,null,null,null,null,null,null,null,null,"Pudlo , Martin","Pudlo ","Martin","",2,"","","D2",""]
[null,null,null,null,null,null,null,null,null,null,null,"Pütz, Eike","Pütz","Eike",28,5,"","","D2","C"]
[null,null,null,null,null,null,null,null,null,null,null,"Rautert, Kassandra","Rautert","Kassandra",19,-1,"","D1","D2",""]
[null,null,null,null,null,null,null,null,null,null,null,"Rautert, Ralf","Rautert","Ralf",55,2,"","D1","D2",""]
[null,null,null,null,null,null,null,null,null,null,null,"Reichl, Matthias","Reichl","Matthias",19,-1,"","","D2",""]
[null,null,null,null,null,null,null,null,null,null,null,"Rietig, Hans-Werner","Rietig","Hans-Werner",51,2,"","D1","D2",""]
[null,null,null,null,null,null,null,null,null,null,null,"Rypalla, Benjamin","Rypalla","Benjamin",24,2,"","","D2",""]
[null,null,null,null,null,null,null,null,null,null,null,"Schmidt, Daniel","Schmidt","Daniel",28,4,"","D1","D2","C"]
[null,null,null,null,null,null,null,null,null,null,null,"Schmidt, Jürgen","Schmidt","Jürgen",55,6,"","D1","D2","C"]
[null,null,null,null,null,null,null,null,null,null,null,"Schmidt, Michael","Schmidt","Michael",26,2,"","D1","D2",""]
[null,null,null,null,null,null,null,null,null,null,null,"Schmittgen, Michele","Schmittgen","Michele",18,1,"","","D2",""]
[null,null,null,null,null,null,null,null,null,null,null,"Schnurbusch, Lars","Schnurbusch","Lars",18,1,"","","D2",""]
[null,null,null,null,null,null,null,null,null,null,null,"Schulz, Heike","Schulz","Heike",52,4,"","D1","D2","C"]
[null,null,null,null,null,null,null,null,null,null,null,"Schwaiger, Andreas","Schwaiger","Andreas",45,4,"","D1","D2",""]
[null,null,null,null,null,null,null,null,null,null,null,"Sinner, Andrea","Sinner","Andrea",22,1,"","","D2",""]
[null,null,null,null,null,null,null,null,null,null,null,"Somoggi, Philipp","Somoggi","Philipp",22,-1,"","","D2",""]
[null,null,null,null,null,null,null,null,null,null,null,"Sowada, Maik","Sowada","Maik",34,-1,"","D1","D2",""]
[null,null,null,null,null,null,null,null,null,null,null,"Steinborn, Maria","Steinborn","Maria",57,2,"","","D2",""]
[null,null,null,null,null,null,null,null,null,null,null,"Steinke, Holger","Steinke","Holger",43,3,"","","D2","C"]
[null,null,null,null,null,null,null,null,null,null,null,"Stepholt, Samira","Stepholt","Samira",19,-1,"","","D2",""]
[null,null,null,null,null,null,null,null,null,null,null,"Strack, Frank","Strack","Frank",46,4,"","","D2","C"]
[null,null,null,null,null,null,null,null,null,null,null,"Strecker, Hans","Strecker","Hans","",5,"","","D2",""]
[null,null,null,null,null,null,null,null,null,null,null,"Thien, Marcus","Thien","Marcus","",-1,"","D1","D2",""]
[null,null,null,null,null,null,null,null,null,null,null,"Triqui, Brahim","Triqui","Brahim",45,7,"","D1","D2","C"]
[null,null,null,null,null,null,null,null,null,null,null,"Uihlein, Annika","Uihlein","Annika",18,-1,"","","D2",""]
[null,null,null,null,null,null,null,null,null,null,null,"Uliana, Thomas","Uliana","Thomas",34,1,"","","D2",""]
[null,null,null,null,null,null,null,null,null,null,null,"Ung, Kim Lan","Ung","Kim Lan","",9,"","","D2","C"]
[null,null,null,null,null,null,null,null,null,null,null,"Ungerer, Yvonne","Ungerer","Yvonne",46,3,"","","",""]
[null,null,null,null,null,null,null,null,null,null,null,"Vinck, Christian","Vinck","Christian","",4,"","D1","",""]
[null,null,null,null,null,null,null,null,null,null,null,"Vones, Harry","Vones","Harry",51,7,"O","D1","D2","C"]
[null,null,null,null,null,null,null,null,null,null,null,"Vones, Heike","Vones","Heike",52,-10,"O","","",""]
[null,null,null,null,null,null,null,null,null,null,null,"Vones, Mathias","Vones","Mathias",20,4,"","D1","D2",""]
[null,null,null,null,null,null,null,null,null,null,null,"Vones, Patrick","Vones","Patrick",24,4,"","D1","D2",""]
[null,null,null,null,null,null,null,null,null,null,null,"Wagner, Adalbert","Wagner","Adalbert",53,7,"","D1","D2","C"]
[null,null,null,null,null,null,null,null,null,null,null,"Wagner, Evi","Wagner","Evi",49,4,"","D1","D2",""]
[null,null,null,null,null,null,null,null,null,null,null,"Waibel, Markus","Waibel","Markus",37,4,"","D1","D2","C"]
[null,null,null,null,null,null,null,null,null,null,null,"Weber, Michelle","Weber","Michelle",23,1,"","D1","D2",""]
[null,null,null,null,null,null,null,null,null,null,null,"Wegener , Olaf","Wegener ","Olaf",17,1,"","","D2",""]
[null,null,null,null,null,null,null,null,null,null,null,"Weiler, Paul","Weiler","Paul","",8,"","D1","D2","C"]
[null,null,null,null,null,null,null,null,null,null,null,"Werner, Oliver","Werner","Oliver","",4,"","D1","D2","C"]
[null,null,null,null,null,null,null,null,null,null,null,"Wiedemann, Angelika","Wiedemann","Angelika",44,1,"","D1","D2",""]
[null,null,null,null,null,null,null,null,null,null,null,"Wiedemann, Annekathrin","Wiedemann","Annekathrin",20,2,"","D1","D2",""]
[null,null,null,null,null,null,null,null,null,null,null,"Wiedemann, Natascha","Wiedemann","Natascha",18,1,"","D1","D2",""]
[null,null,null,null,null,null,null,null,null,null,null,"Wiesehoff, Hermann","Wiesehoff","Hermann",53,1,"","","D2",""]
[null,null,null,null,null,null,null,null,null,null,null,"Wintzer, Christa","Wintzer","Christa","",8,"","D1","D2","C"]
[null,null,null,null,null,null,null,null,null,null,null,"Wolters, Stephanie","Wolters","Stephanie",40,-1,"","D1","D2",""]
[null,null,null,null,null,null,null,null,null,null,null,"Würfl, Max","Würfl","Max",55,1,"","","D2",""]
[null,null,null,null,null,null,null,null,null,null,null,"Zollner, Raimund","Zollner","Raimund",43,4,"","","D2",""]

{"sheet":"Btr. Übernahme","index":4,"n_rows":4,"n_cols":3,"rows_kept":4,"cut":false,"hidden":false,"merged":[[0,4,0,5]]}
["Familienname","Vorname","Schule/Verein"]
[{"$f":"IF('application form'!H21=\"\",\"\",'application form'!H21)","v":""},{"$f":"IF('application form'!L21=\"\",\"\",'application form'!L21)","v":""},{"$f":"IF('application form'!$D$6=\"\",\"\",'application form'!$D$6)","v":""}]
[{"$f":"IF('application form'!H22=\"\",\"\",'application form'!H22)","v":""},{"$f":"IF('application form'!L22=\"\",\"\",'application form'!L22)","v":""},{"$f":"IF('application form'!$D$6=\"\",\"\",'application form'!$D$6)","v":""}]
[{"$f":"IF('application form'!H23=\"\",\"\",'application form'!H23)","v":""},{"$f":"IF('application form'!L23=\"\",\"\",'application form'!L23)","v":""},{"$f":"IF('application form'!$D$6=\"\",\"\",'application form'!$D$6)","v":""}]